BEGIN:VCALENDAR
VERSION:2.0
PRODID:-//Underwriting Agencies Council Ltd - ECPv4.6.6//NONSGML v1.0//EN
CALSCALE:GREGORIAN
METHOD:PUBLISH
X-WR-CALNAME:Underwriting Agencies Council Ltd
X-ORIGINAL-URL:https://uac.org.au
X-WR-CALDESC:Events for Underwriting Agencies Council Ltd
BEGIN:VEVENT
DTSTART;TZID=UTC+10:20180306T080000
DTEND;TZID=UTC+10:20180306T100000
DTSTAMP:20180225T214423
CREATED:20180209T012200Z
LAST-MODIFIED:20180209T020804Z
UID:3988-1520323200-1520330400@uac.org.au
SUMMARY:Sydney\, UAC Morning Seminar
DESCRIPTION:Event details:  \nPresenter: David Newey\, Managing Partner\, GD Law \nRegistration: 8am to 8.30am \nSession starts: 8.30am to 10am \nANZIIF CPD points: 1.5 \nTopic:  Managing complex property insurance: claims and recovery actions – What’s the current state of play? \n\nreservation of rights\npartial indemnity cover\nuninsured losses\nclaims for pure economic loss\n\nBring a broker along with you and your staff to hear about this very relevant topic. \nThe seminar is free to attend but you need to register. Fill in the attendee details below and the purchaser’s details in the checkout. Tickets will be emailed to the purchaser. Use the checkout even though this is a free event. \n
URL:https://uac.org.au/uac-events/sydney-uac-morning-seminar/
LOCATION:Level 40\, ANZ Tower\, 161 Castlereagh Street\, Sydney\, NSW\, 2000
ATTACH;FMTTYPE=image/jpeg:https://uac.org.au/wp-content/uploads/GDLaw-Sydney.jpg
END:VEVENT
BEGIN:VEVENT
DTSTART;TZID=UTC+10:20180309T073000
DTEND;TZID=UTC+10:20180309T143000
DTSTAMP:20180225T214423
CREATED:20171121T062939Z
LAST-MODIFIED:20180213T010303Z
UID:3339-1520580600-1520605800@uac.org.au
SUMMARY:Sydney Underwriting Expo
DESCRIPTION:Varied sponsorship opportunities are available for the Sydney Underwriting Expo. Click here to see the Sponsorship Proposal. \nScroll down to register to exhibit\, buy tickets for the breakfast or buy additional exhibitor catering packs (if you will have more than two people at your exhibitor table). \n \nEvent details \nBreakfast \nSydney Hilton Hotel – level 2 State Room\n7.30am to 9am\nTable service – plated hot breakfast\nAttendance is capped at 120 people\nSpeaker: Joe Dainty\, Head of Global Operations for Lloyd’s\nCost per person $100 incl GST \nExhibitor registration \nSydney Hilton Hotel – Level 3 Expo Hall\n7.30am Expo Hall open for exhibitor bump-in\n9am Expo opens to brokers\n2.30pm Expo closes\n2.35pm Exhibitor bump-out starts \nInclusions:\n• Unallocated exhibitor table (1 x trestle table\, 2 x chairs\, catering for 2 people)\n• Additional catering and beverage tickets can be purchased at $95 a person\n• Exhibitor tables will be managed on a first-in\, first-served basis\n• Expo Hall doors will not open until 7.30am on Friday 9 March 2018\n•Premium pre-allocated exhibitor tables will be granted only to sponsors offered that benefit as part of their sponsorship package\n• After prior years’ feedback\, UAC has extended the opening hours to 2.30pm\n• Event App technology ensures brokers visit a minimum of 30 exhibitors to be eligible for lucky draw prizes and to collect CPD points\n• All catering will be served within the Expo Hall – no private lunch event\n• Catering will be 5-star hotel quality\, including:\n– Morning tea: coffee and tea\, freshly baked muffins and pastries\n– Lunch: substantial buffet food plus alcoholic and non-alcoholic beverages served mid afternoon. \nSingle table $1\,200 incl GST\nAdditional catering tickets $95 incl GST per person \nClick here for the delivery label \nClick here for the loading dock form \nClick here for the loading dock lift dimensions \nClick here for the internet form \nUAC welcomes its Sydney Underwriting Expo sponsors: Breakfast: Macquarie; Lunch: WLM; Morning tea: Mecon; Coffee cart: Gratex; Event app: Bark Productions; Volunteer staff: Gold Seal \n \n
URL:https://uac.org.au/uac-events/sydney-underwriting-expo/
LOCATION:Levels 2 & 3\, 488 George Street\, Sydney\, NSW\, 2000\, Australia
ATTACH;FMTTYPE=image/jpeg:https://uac.org.au/wp-content/uploads/Syd-Underwriting-Expo-2018-header.jpg
ORGANIZER;CN="Underwriting%20Agencies%20Council":MAILTO:admin@uac.org.au
END:VEVENT
BEGIN:VEVENT
DTSTART;TZID=UTC+10:20180313T080000
DTEND;TZID=UTC+10:20180313T100000
DTSTAMP:20180225T214423
CREATED:20180212T042307Z
LAST-MODIFIED:20180220T231830Z
UID:4048-1520928000-1520935200@uac.org.au
SUMMARY:Melbourne\, UAC Morning Seminar
DESCRIPTION:Presenters: Jason Newman and Katherine Czoch\, Principals\, Gilchrist Connell \nRegistration: 8am to 8.30am \nSession starts: 8.30am to 10am \nANZIIF CPD points: 1.5 \nTopic: Too hot to handle? How combustible cladding is firing up regulators and the insurance market \nThis seminar will examine the impact on underwriting agencies of regulatory and insurance market responses to combustible cladding following the 2014 Lacrosse building fire and last year’s Grenfell Towers tragedy in London. \nBring a broker along with you and your staff to hear about this very relevant topic. \nThe seminar is free to attend but you need to register. Fill in the attendees’ details below and the purchaser’s details in the checkout. Tickets will be emailed to the purchaser. Use the checkout even though this is a free event. \n
URL:https://uac.org.au/uac-events/melbourne-uac-morning-seminar/
LOCATION:Level 24\, North Tower\, 459 Collins Street\, Melbourne\, Vic\, 3000\, Australia
ATTACH;FMTTYPE=image/jpeg:https://uac.org.au/wp-content/uploads/GC-seminar-fire-pic-resized.jpg
END:VEVENT
BEGIN:VEVENT
DTSTART;TZID=UTC+10:20180405T080000
DTEND;TZID=UTC+10:20180405T100000
DTSTAMP:20180225T214423
CREATED:20180220T005836Z
LAST-MODIFIED:20180220T005836Z
UID:4286-1522915200-1522922400@uac.org.au
SUMMARY:Sydney. UAC Morning Seminar
DESCRIPTION:More information to come. \n
URL:https://uac.org.au/uac-events/sydney-uac-morning-seminar-2/
LOCATION:NSW
ATTACH;FMTTYPE=image/jpeg:https://uac.org.au/wp-content/uploads/Wotton-Kearney-Sydney.jpg
END:VEVENT
BEGIN:VEVENT
DTSTART;TZID=UTC+10:20180412T080000
DTEND;TZID=UTC+10:20180412T100000
DTSTAMP:20180225T214423
CREATED:20180220T010142Z
LAST-MODIFIED:20180220T010142Z
UID:4289-1523520000-1523527200@uac.org.au
SUMMARY:Melbourne\, UAC Morning Seminar
DESCRIPTION:More information to come. \n
URL:https://uac.org.au/uac-events/melbourne-uac-morning-seminar-2/
LOCATION:NSW
ATTACH;FMTTYPE=image/jpeg:https://uac.org.au/wp-content/uploads/Wotton-Kearney-Melbourne.jpg
END:VEVENT
BEGIN:VEVENT
DTSTART;TZID=UTC+10:20180525T070000
DTEND;TZID=UTC+10:20180525T150000
DTSTAMP:20180225T214423
CREATED:20180125T014118Z
LAST-MODIFIED:20180125T014118Z
UID:3885-1527231600-1527260400@uac.org.au
SUMMARY:Melbourne Underwriting Expo
DESCRIPTION:More information to come. \n
URL:https://uac.org.au/uac-events/melbourne-underwriting-expo/
LOCATION:8 Whiteman St\, Southbank\, Vic\, 3006\, Australia
ATTACH;FMTTYPE=image/jpeg:https://uac.org.au/wp-content/uploads/uac-800x500.jpg
END:VEVENT
BEGIN:VEVENT
DTSTART;TZID=UTC+10:20180718T093000
DTEND;TZID=UTC+10:20180718T120000
DTSTAMP:20180225T214423
CREATED:20180125T014334Z
LAST-MODIFIED:20180125T014334Z
UID:3888-1531906200-1531915200@uac.org.au
SUMMARY:Brisbane Underwriting Expo
DESCRIPTION:More information to come. \n
URL:https://uac.org.au/uac-events/brisbane-underwriting-expo/
LOCATION:NSW
ATTACH;FMTTYPE=image/jpeg:https://uac.org.au/wp-content/uploads/uac-800x500.jpg
END:VEVENT
BEGIN:VEVENT
DTSTART;TZID=UTC+10:20180809T090000
DTEND;TZID=UTC+10:20180809T140000
DTSTAMP:20180225T214423
CREATED:20180125T035704Z
LAST-MODIFIED:20180125T035704Z
UID:3891-1533805200-1533823200@uac.org.au
SUMMARY:Adelaide Underwriting Expo
DESCRIPTION:More information to come. \n
URL:https://uac.org.au/uac-events/adelaide-underwriting-expo/
LOCATION:233 Victoria Square\, SA\, 5000\, Australia
ATTACH;FMTTYPE=image/jpeg:https://uac.org.au/wp-content/uploads/uac-800x500.jpg
END:VEVENT
BEGIN:VEVENT
DTSTART;TZID=UTC+10:20181213T100000
DTEND;TZID=UTC+10:20181213T120000
DTSTAMP:20180225T214423
CREATED:20180125T040339Z
LAST-MODIFIED:20180125T040602Z
UID:3894-1544695200-1544702400@uac.org.au
SUMMARY:Sydney\, UAC Annual General Meeting
DESCRIPTION:More information to come. \n
URL:https://uac.org.au/uac-events/sydney-uac-annual-general-meeting/
LOCATION:NSW
ATTACH;FMTTYPE=image/jpeg:https://uac.org.au/wp-content/uploads/uac-800x500.jpg
END:VEVENT
END:VCALENDAR