BEGIN:VCALENDAR
VERSION:2.0
PRODID:-//Underwriting Agencies Council Ltd - ECPv6.15.14//NONSGML v1.0//EN
CALSCALE:GREGORIAN
METHOD:PUBLISH
X-WR-CALNAME:Underwriting Agencies Council Ltd
X-ORIGINAL-URL:https://uac.org.au
X-WR-CALDESC:Events for Underwriting Agencies Council Ltd
REFRESH-INTERVAL;VALUE=DURATION:PT1H
X-Robots-Tag:noindex
X-PUBLISHED-TTL:PT1H
BEGIN:VTIMEZONE
TZID:Australia/Sydney
BEGIN:STANDARD
TZOFFSETFROM:+1100
TZOFFSETTO:+1000
TZNAME:AEST
DTSTART:20250405T160000
END:STANDARD
BEGIN:DAYLIGHT
TZOFFSETFROM:+1000
TZOFFSETTO:+1100
TZNAME:AEDT
DTSTART:20251004T160000
END:DAYLIGHT
BEGIN:STANDARD
TZOFFSETFROM:+1100
TZOFFSETTO:+1000
TZNAME:AEST
DTSTART:20260404T160000
END:STANDARD
BEGIN:DAYLIGHT
TZOFFSETFROM:+1000
TZOFFSETTO:+1100
TZNAME:AEDT
DTSTART:20261003T160000
END:DAYLIGHT
BEGIN:STANDARD
TZOFFSETFROM:+1100
TZOFFSETTO:+1000
TZNAME:AEST
DTSTART:20270403T160000
END:STANDARD
BEGIN:DAYLIGHT
TZOFFSETFROM:+1000
TZOFFSETTO:+1100
TZNAME:AEDT
DTSTART:20271002T160000
END:DAYLIGHT
END:VTIMEZONE
BEGIN:VEVENT
DTSTART;TZID=Australia/Sydney:20260202T120000
DTEND;TZID=Australia/Sydney:20260202T130000
DTSTAMP:20260421T021700
CREATED:20251205T000041Z
LAST-MODIFIED:20251223T234839Z
UID:10000124-1770033600-1770037200@uac.org.au
SUMMARY:ESG Reporting and Implications for Underwriting Agencies
DESCRIPTION:Presenter: Bob Anderson – BRM Services \nPresentation Summary \nESG Reporting and Implications for Underwriting Agencies \nESG reporting is rapidly evolving from a voluntary disclosure exercise into a core underwriting and risk governance consideration. For underwriting agencies\, ESG is no longer just about compliance—it is becoming a determinant of risk quality\, pricing\, capacity\, and insurer confidence. \nKey Themes Covered \n\nMandatory reporting and how Underwriting Agencies could get pulled into the ESG Reporting equation\nWhy ESG matters to underwriters: ESG risks increasingly correlate with claims frequency\, severity\, reputational damage\, and long-tail liabilities.\nEnvironmental risks: Climate hazards\, energy use\, Scope 1–3 emissions\, and transition risks are reshaping catastrophe modelling and portfolio exposure.\nSocial risks: Workplace safety\, lithium-ion battery use\, contractor management\, and duty of care failures are emerging as leading loss indicators.\nGovernance risks: Weak governance\, poor incident reporting\, NDAs misuse\, and lack of transparency elevate underwriting uncertainty and moral hazard.\nData and disclosure: Underwriters are shifting from narrative ESG statements to evidence-based risk registers\, controls\, and performance metrics.\nMarket response: Reinsurers and insurers are embedding ESG screening into capacity decisions\, delegated authority frameworks\, and portfolio reviews.\nFuture outlook: ESG-driven underwriting will increasingly leverage AI\, real-time risk alerts\, and dynamic pricing models rather than static annual reviews.\n\nRegistrations: Microsoft Virtual Events Powered by Teams
URL:https://uac.org.au/event/emerging-risks-update/
CATEGORIES:Education & Training
ATTACH;FMTTYPE=image/jpeg:https://uac.org.au/wp-content/uploads/BRM-logo-blog.jpg
END:VEVENT
BEGIN:VEVENT
DTSTART;TZID=Australia/Sydney:20260128T130000
DTEND;TZID=Australia/Sydney:20260128T140000
DTSTAMP:20260421T021700
CREATED:20251204T230106Z
LAST-MODIFIED:20260107T224739Z
UID:10000123-1769605200-1769608800@uac.org.au
SUMMARY:Practical Insurance Marketing Advice for Growth
DESCRIPTION:Presenter: Caroline Healy – CEO at We Are Savvy \nPresentation Summary\nMarketing doesn’t have to be complicated — but it does need to be clever. In this session\, we’ll cut through the noise and share practical\, proven marketing strategies that actually help insurance businesses grow. \nWhether you’re looking to attract new clients\, re-engage existing ones\, or simply make your marketing work harder\, this session will leave you with ideas you can put into action straight away. \nWe’ll talk about:\n1. Understand where a business can find growth\n2. Practical marketing tools required to target audiences\n3. Use content and client communication to drive trust and referrals \nRegistrations: Practical Insurance Marketing Advice for Growth | Meeting-Join | Microsoft Teams
URL:https://uac.org.au/event/practical-insurance-marketing-advice-for-growth/
CATEGORIES:Education & Training
ATTACH;FMTTYPE=image/jpeg:https://uac.org.au/wp-content/uploads/BSM-Members-logo/We_Are_Savvy_Logo.jpg
END:VEVENT
END:VCALENDAR