BEGIN:VCALENDAR
VERSION:2.0
PRODID:-//Underwriting Agencies Council Ltd - ECPv5.3.2.1//NONSGML v1.0//EN
CALSCALE:GREGORIAN
METHOD:PUBLISH
X-WR-CALNAME:Underwriting Agencies Council Ltd
X-ORIGINAL-URL:https://uac.org.au
X-WR-CALDESC:Events for Underwriting Agencies Council Ltd
BEGIN:VTIMEZONE
TZID:Australia/Sydney
BEGIN:STANDARD
TZOFFSETFROM:+1100
TZOFFSETTO:+1000
TZNAME:AEST
DTSTART:20210403T160000
END:STANDARD
BEGIN:DAYLIGHT
TZOFFSETFROM:+1000
TZOFFSETTO:+1100
TZNAME:AEDT
DTSTART:20211002T160000
END:DAYLIGHT
TZID:Australia/Melbourne
BEGIN:STANDARD
TZOFFSETFROM:+1100
TZOFFSETTO:+1000
TZNAME:AEST
DTSTART:20210403T160000
END:STANDARD
BEGIN:DAYLIGHT
TZOFFSETFROM:+1000
TZOFFSETTO:+1100
TZNAME:AEDT
DTSTART:20211002T160000
END:DAYLIGHT
END:VTIMEZONE
BEGIN:VEVENT
DTSTART;TZID=Australia/Sydney:20210312T083000
DTEND;TZID=Australia/Sydney:20210312T143000
DTSTAMP:20210224T210521
CREATED:20210118T071503Z
LAST-MODIFIED:20210218T031510Z
UID:14174-1615537800-1615559400@uac.org.au
SUMMARY:Sydney Underwriting Expo
DESCRIPTION:UAC members considering exhibiting at the Sydney Underwriting Expo: please consider the current circumstances in your attending staff’s home state and be mindful of possible Covid-19 exposures. \nCOVID-19 REQUIREMENTS FOR EVENTS/EXPOS\n\nHyatt Regency will provide thermal imaging screening for all attendees.\nHyatt Regency will provide a QR code on entry to the Hotel. Red Team will assist with scanning (note there are numerous QR codes within the Hotel\, the Event QR needs to be scanned for the Expo) by all attendees.\nHyatt Regency will provide multiple hand sanitiser stands throughout the expo space.\nUAC will provide a 500ml bottle of hand sanitiser for each exhibitor table.\nThe venue will provide directional decals to ensure the flow of attendees and to control numbers within each expo space. Please comply with these instructions.\nBrokers will select a specific time frame to visit the expo\, please do not have lengthy discussions. If required\, please arrange meetings outside the expo space.\n\n\nExhibitors (please read before purchasing your exhibitor table ticket below):\nNote: If the Sydney Underwriting Expo is cancelled due to Covid-19 revised restrictions\, UAC will issue a full refund to exhibitors.\nShould you have any questions relating to the Expo please contact Tracey Claridge: traceyclaridge@uac.org.au or mobile: 0433 447 574\n\nTwo staff members can manage the expo table at any given time. Additional staff are welcome to support the event and swap out with team members.\nPlease don’t move tables or chairs as they have been placed according to social distancing requirements required for the event space.\nBanners can be placed between tables. It is preferred to not have banners on tables.\nWhere practical\, keep merchandise in its original packaging\, this will assist in reducing excessive handling.  Additional items can be given to brokers on request.\n\nBump In: 0730 – 0830 – Hyatt Regency Security will not allow access prior to 0730 – please be respectful of the Hotel rules \nBump Out: 2:30pm \n\nBrokers (entry is complimentary\, however please select a specific time slot to attend – see below):\nShould you have any questions relating to the Expo please contact Tracey Claridge: traceyclaridge@uac.org.au or mobile: 0433 447 574\n\nPlease complete your registration details in full – don’t skip any fields.\nSelect a time frame to attend the expo: 8.30am-11.00; 11.30am-2.00pm. There are limited places available for each time frame.\nPlease arrive with sufficient time to scan Hyatt Regency event QR; thermal imaging screening and UAC Entry QR scan before accessing the expo.\nBrokers are required to scan an Entry QR code and an Exit QR code (both are mandatory and will support contract tracing; lead reports and certificates for CPD points). These will be available at entry/exit points and provided by UAC Red Team support staff.\nAnnouncements will be made when each time frame is due to expire and brokers in that time frame are required to leave the expo to enable the next group to enter.\nUAC recommends Brokers download the UAC Events app in advance. This will assist with scanning Entry/Exit Codes; exhibitor QR codes and support allocation of CPD points.\nIf you have the app\, select the wheel – top right of screen; change event tab; Sydney 2021 and complete your details\nDirectional decals and bollards will be placed within the event space to ensure one directional flow of traffic. This is to ensure numbers aren’t breached under current COVID-19 rules.\nEnsure your camera is operational on both the UAC Events app and in your phone settings.\nPaper passports WILL NOT be provided.\nPromotional merchandise will be available from exhibitors. UAC encourages minimum handling of items.
URL:https://uac.org.au/events/syd21/
LOCATION:Hyatt Regency Hotel – Maritime and Grand Ballrooms\, Mezzanine Level\, 161 Sussex St\, Sydney\, NSW\, 2000\, Australia
ATTACH;FMTTYPE=image/jpeg:https://uac.org.au/wp-content/uploads/Website-image-6.jpg
END:VEVENT
BEGIN:VEVENT
DTSTART;VALUE=DATE:20210521
DTEND;VALUE=DATE:20210522
DTSTAMP:20210224T210521
CREATED:20200529T012817Z
LAST-MODIFIED:20200529T012817Z
UID:12676-1621555200-1621641599@uac.org.au
SUMMARY:Melbourne Underwriting Expo
DESCRIPTION:
URL:https://uac.org.au/events/melbourne-underwriting-expo-4/
LOCATION:Crown Hotel\, 8 Whiteman St\, Palladium rooms\, Melbourne\, Southbank\, 3006
ATTACH;FMTTYPE=image/jpeg:https://uac.org.au/wp-content/uploads/Website-image-7.jpg
END:VEVENT
BEGIN:VEVENT
DTSTART;VALUE=DATE:20210714
DTEND;VALUE=DATE:20210715
DTSTAMP:20210224T210521
CREATED:20200528T235849Z
LAST-MODIFIED:20200910T010446Z
UID:12678-1626220800-1626307199@uac.org.au
SUMMARY:Brisbane Underwriting Expo
DESCRIPTION:
URL:https://uac.org.au/events/brisbane-underwriting-expo-4/
LOCATION:Royal International Convention Centre\, 600 Gregory Terrace\, Bowen Hills\, Qld\, 4006
ATTACH;FMTTYPE=image/jpeg:https://uac.org.au/wp-content/uploads/Website-image-8.jpg
END:VEVENT
BEGIN:VEVENT
DTSTART;VALUE=DATE:20210811
DTEND;VALUE=DATE:20210812
DTSTAMP:20210224T210521
CREATED:20200528T235806Z
LAST-MODIFIED:20200528T235806Z
UID:12680-1628640000-1628726399@uac.org.au
SUMMARY:Norwest Sydney Underwriting Expo
DESCRIPTION:
URL:https://uac.org.au/events/norwest-sydney-underwriting-expo-3/
LOCATION:Castle Hill RSL Club\, 77 Castle St\, Castle Hill\, NSW\, 2154
ATTACH;FMTTYPE=image/jpeg:https://uac.org.au/wp-content/uploads/UAC-Norwest-Sydney-Expo-2020-Website-image.jpg
END:VEVENT
BEGIN:VEVENT
DTSTART;VALUE=DATE:20210916
DTEND;VALUE=DATE:20210917
DTSTAMP:20210224T210521
CREATED:20200528T235714Z
LAST-MODIFIED:20200528T235714Z
UID:12682-1631750400-1631836799@uac.org.au
SUMMARY:Adelaide Underwriting Expo
DESCRIPTION:
URL:https://uac.org.au/events/adelaide-underwriting-expo-4/
LOCATION:Adelaide Convention Centre\, North Terrace\, Adelaide\, SA\, 5000
ATTACH;FMTTYPE=image/jpeg:https://uac.org.au/wp-content/uploads/UAC-Adelaide-Expo-2020-Website-image.jpg
END:VEVENT
BEGIN:VEVENT
DTSTART;VALUE=DATE:20211020
DTEND;VALUE=DATE:20211021
DTSTAMP:20210224T210521
CREATED:20200528T235628Z
LAST-MODIFIED:20200528T235628Z
UID:12684-1634688000-1634774399@uac.org.au
SUMMARY:Hobart Underwriting Expo
DESCRIPTION:
URL:https://uac.org.au/events/hobart-underwriting-expo-2/
LOCATION:Hotel Grand Chancellor Hobart\, Grand Ballroom\, 1 Davey Street\, Hobart\, Tas\, 7000
ATTACH;FMTTYPE=image/jpeg:https://uac.org.au/wp-content/uploads/Website-image-3.jpg
END:VEVENT
BEGIN:VEVENT
DTSTART;VALUE=DATE:20211118
DTEND;VALUE=DATE:20211119
DTSTAMP:20210224T210521
CREATED:20200528T235354Z
LAST-MODIFIED:20200528T235354Z
UID:12686-1637193600-1637279999@uac.org.au
SUMMARY:Perth Underwriting Expo
DESCRIPTION:
URL:https://uac.org.au/events/perth-underwriting-expo-4/
LOCATION:Crown Complex\, Great Eastern Highway\, Burswood\, WA\, 6100\, Australia
ATTACH;FMTTYPE=image/jpeg:https://uac.org.au/wp-content/uploads/UAC-Perth-Expo-2020-Website-image.jpg
END:VEVENT
END:VCALENDAR