BEGIN:VCALENDAR
VERSION:2.0
PRODID:-//Underwriting Agencies Council Ltd - ECPv6.15.14//NONSGML v1.0//EN
CALSCALE:GREGORIAN
METHOD:PUBLISH
X-ORIGINAL-URL:https://uac.org.au
X-WR-CALDESC:Events for Underwriting Agencies Council Ltd
REFRESH-INTERVAL;VALUE=DURATION:PT1H
X-Robots-Tag:noindex
X-PUBLISHED-TTL:PT1H
BEGIN:VTIMEZONE
TZID:Australia/Sydney
BEGIN:STANDARD
TZOFFSETFROM:+1100
TZOFFSETTO:+1000
TZNAME:AEST
DTSTART:20250405T160000
END:STANDARD
BEGIN:DAYLIGHT
TZOFFSETFROM:+1000
TZOFFSETTO:+1100
TZNAME:AEDT
DTSTART:20251004T160000
END:DAYLIGHT
BEGIN:STANDARD
TZOFFSETFROM:+1100
TZOFFSETTO:+1000
TZNAME:AEST
DTSTART:20260404T160000
END:STANDARD
BEGIN:DAYLIGHT
TZOFFSETFROM:+1000
TZOFFSETTO:+1100
TZNAME:AEDT
DTSTART:20261003T160000
END:DAYLIGHT
BEGIN:STANDARD
TZOFFSETFROM:+1100
TZOFFSETTO:+1000
TZNAME:AEST
DTSTART:20270403T160000
END:STANDARD
BEGIN:DAYLIGHT
TZOFFSETFROM:+1000
TZOFFSETTO:+1100
TZNAME:AEDT
DTSTART:20271002T160000
END:DAYLIGHT
END:VTIMEZONE
BEGIN:VEVENT
DTSTART;TZID=Australia/Sydney:20260311T120000
DTEND;TZID=Australia/Sydney:20260311T130000
DTSTAMP:20260420T213616
CREATED:20251209T000759Z
LAST-MODIFIED:20251209T000759Z
UID:10000133-1773230400-1773234000@uac.org.au
SUMMARY:Attracting Top Talent Across Generations: How to Sell Your Business Story
DESCRIPTION:Presenters: Danielle Marshall – Co-Founder/Director & Jo Aitken – Client Solutions & Training Manager \nThis session explores how leaders can attract\, engage\, and retain talent across all ages and career stages by understanding what truly drives candidates today. Learn how to position your business and roles in a way that resonates with everyone from emerging Gen Z professionals to seasoned industry experts and build your brand as an employer of choice in a changing market. \nLearning Objectives: \n\nUnderstand: Gain insight into what motivates and attracts candidates across generations within the General Insurance industry.\nApply: Implement practical and proven strategies to effectively position your business and roles to appeal to diverse talent.\nEnhance: Build and refine a strong employer brand that highlights growth\, purpose\, and flexibility.\nAttract: Position your organisation as an employer of choice\, promoting a culture that engages and retains talent across all career stages.\n\nRegistrations: https://events.teams.microsoft.com/event/28c60e2a-19ae-42a9-8214-7f5d0326a5ba@6d96f8f2-00e8-4ea1-9ba7-fd86f83ec1b3
URL:https://uac.org.au/event/attracting-top-talent-across-generations-how-to-sell-your-business-story/
CATEGORIES:Education & Training
ATTACH;FMTTYPE=image/jpeg:https://uac.org.au/wp-content/uploads/BSM-Members-logo/Haylo-People-Logo.jpg
END:VEVENT
END:VCALENDAR