BEGIN:VCALENDAR
VERSION:2.0
PRODID:-//Underwriting Agencies Council Ltd - ECPv6.15.14//NONSGML v1.0//EN
CALSCALE:GREGORIAN
METHOD:PUBLISH
X-WR-CALNAME:Underwriting Agencies Council Ltd
X-ORIGINAL-URL:https://uac.org.au
X-WR-CALDESC:Events for Underwriting Agencies Council Ltd
REFRESH-INTERVAL;VALUE=DURATION:PT1H
X-Robots-Tag:noindex
X-PUBLISHED-TTL:PT1H
BEGIN:VTIMEZONE
TZID:Australia/Sydney
BEGIN:STANDARD
TZOFFSETFROM:+1100
TZOFFSETTO:+1000
TZNAME:AEST
DTSTART:20250405T160000
END:STANDARD
BEGIN:DAYLIGHT
TZOFFSETFROM:+1000
TZOFFSETTO:+1100
TZNAME:AEDT
DTSTART:20251004T160000
END:DAYLIGHT
BEGIN:STANDARD
TZOFFSETFROM:+1100
TZOFFSETTO:+1000
TZNAME:AEST
DTSTART:20260404T160000
END:STANDARD
BEGIN:DAYLIGHT
TZOFFSETFROM:+1000
TZOFFSETTO:+1100
TZNAME:AEDT
DTSTART:20261003T160000
END:DAYLIGHT
BEGIN:STANDARD
TZOFFSETFROM:+1100
TZOFFSETTO:+1000
TZNAME:AEST
DTSTART:20270403T160000
END:STANDARD
BEGIN:DAYLIGHT
TZOFFSETFROM:+1000
TZOFFSETTO:+1100
TZNAME:AEDT
DTSTART:20271002T160000
END:DAYLIGHT
END:VTIMEZONE
BEGIN:VEVENT
DTSTART;TZID=Australia/Sydney:20260219T120000
DTEND;TZID=Australia/Sydney:20260219T130000
DTSTAMP:20260420T230041
CREATED:20251205T005752Z
LAST-MODIFIED:20251205T005752Z
UID:10000127-1771502400-1771506000@uac.org.au
SUMMARY:Navigating AFCA Complaints
DESCRIPTION:Presenter: Marjana Cvetanoska – Founder/CEO at Corporate Overhaul \nPresentation Summary \nTo equip financial services professionals with the knowledge and practical skills needed to effectively manage complaints lodged with the Australian Financial Complaints Authority (AFCA)\, ensuring compliance\, timely resolution\, and improved client outcomes. \nLearning Objectives \n\nUnderstand AFCA’s role as an external dispute resolution body and its jurisdiction.\nIdentify what constitutes a complaint and the importance of early engagement.\nLearn the step-by-step AFCA complaint process\, including registration\, referral\, and decision-making stages.\nExplore best practices for responding to complaints\, including vulnerability considerations\, transparency\, and collaboration.\nGain insights into common pitfalls and how to avoid them\, including record-keeping and limitation periods.\nNavigate the AFCA member portal for complaint management and reporting.\n\nRegistrations: Microsoft Virtual Events Powered by Teams
URL:https://uac.org.au/event/navigating-afca-complaints/
CATEGORIES:Education & Training
ATTACH;FMTTYPE=image/png:https://uac.org.au/wp-content/uploads/e55eea30-525d-42f4-8de8-17995bad7890-TICKET.span_style__color___000000___have_your_own_banner__upload_it_here_for_use_on_the_we-COLS-Webinar-Banner.png
END:VEVENT
END:VCALENDAR