BEGIN:VCALENDAR
VERSION:2.0
PRODID:-//Underwriting Agencies Council Ltd - ECPv6.15.14//NONSGML v1.0//EN
CALSCALE:GREGORIAN
METHOD:PUBLISH
X-ORIGINAL-URL:https://uac.org.au
X-WR-CALDESC:Events for Underwriting Agencies Council Ltd
REFRESH-INTERVAL;VALUE=DURATION:PT1H
X-Robots-Tag:noindex
X-PUBLISHED-TTL:PT1H
BEGIN:VTIMEZONE
TZID:Australia/Sydney
BEGIN:STANDARD
TZOFFSETFROM:+1100
TZOFFSETTO:+1000
TZNAME:AEST
DTSTART:20240406T160000
END:STANDARD
BEGIN:DAYLIGHT
TZOFFSETFROM:+1000
TZOFFSETTO:+1100
TZNAME:AEDT
DTSTART:20241005T160000
END:DAYLIGHT
BEGIN:STANDARD
TZOFFSETFROM:+1100
TZOFFSETTO:+1000
TZNAME:AEST
DTSTART:20250405T160000
END:STANDARD
BEGIN:DAYLIGHT
TZOFFSETFROM:+1000
TZOFFSETTO:+1100
TZNAME:AEDT
DTSTART:20251004T160000
END:DAYLIGHT
BEGIN:STANDARD
TZOFFSETFROM:+1100
TZOFFSETTO:+1000
TZNAME:AEST
DTSTART:20260404T160000
END:STANDARD
BEGIN:DAYLIGHT
TZOFFSETFROM:+1000
TZOFFSETTO:+1100
TZNAME:AEDT
DTSTART:20261003T160000
END:DAYLIGHT
BEGIN:STANDARD
TZOFFSETFROM:+1100
TZOFFSETTO:+1000
TZNAME:AEST
DTSTART:20270403T160000
END:STANDARD
BEGIN:DAYLIGHT
TZOFFSETFROM:+1000
TZOFFSETTO:+1100
TZNAME:AEDT
DTSTART:20271002T160000
END:DAYLIGHT
END:VTIMEZONE
BEGIN:VEVENT
DTSTART;VALUE=DATE:20250918
DTEND;VALUE=DATE:20260217
DTSTAMP:20260420T230117
CREATED:20250918T002735Z
LAST-MODIFIED:20260118T214143Z
UID:10000101-1758153600-1771286399@uac.org.au
SUMMARY:UAC 2026 Market Exchanges Bulk Purchase
DESCRIPTION:UAC members can bulk purchase UAC 2026 Market Exchanges.  Note\, no refund for cancellations when bulk purchasing. \nMembers who would like to continue to purchase our market exchanges on an individual basis can still do so by clicking on the the relevant market exchange on the UAC Event drop down tab Market Exchanges. \nAny questions relating to the Market Exchange\, contact Tracey Claridge: traceyclaridge@uac.org.au or mobile: 0433 447 574 \nUAC looks forward to welcoming members and brokers to the 2026 Market Exchanges. \n\nSydney – 17 February\nGold Coast – 19 March\nCanberra – 22 April\nWagga Wagga – 23 April\nMelbourne – 13 May\nBrisbane – 14 July\nAdelaide – 12 August\nHobart – 15 September\nGeelong – 8 October\nPerth – 11 November\n\n 
URL:https://uac.org.au/event/uac-2026-market-exchanges-bulk-purchase/
CATEGORIES:Expos
ATTACH;FMTTYPE=image/png:https://uac.org.au/wp-content/uploads/UAC-2026-Market-Exchanges.png
END:VEVENT
BEGIN:VEVENT
DTSTART;TZID=Australia/Sydney:20260204T120000
DTEND;TZID=Australia/Sydney:20260204T130000
DTSTAMP:20260420T230117
CREATED:20260122T005325Z
LAST-MODIFIED:20260122T005543Z
UID:10000138-1770206400-1770210000@uac.org.au
SUMMARY:Emerging Risk – The Benefits and Risks of Artificial Intelligence
DESCRIPTION:Presenter: Jehan-Philippe Wood (Partner)\, Darryl Smith (Partner)\, Simone Herbert-Lower (Partner) & Yvonne Lam (Partner) \nEmerging Risk – The Benefits and Risks of Artificial Intelligence\nThis webinar explores the evolving landscape of artificial intelligence (AI) and its implications for the insurance and professional services sectors. Delivered by legal experts\, it will unpack the emerging risks associated with AI technologies\, including regulatory challenges\, ethical considerations\, liability exposures\, and data governance. As well as highlighting key risks in key industries\, the session will highlight potential benefits and challenges of using AI in insurance and broking businesses\, offering practical insights into how insurers\, brokers and professional services providers can harness AI responsibly and compliantly. \nLearning Objectives \no Identifying potential benefits of using AI in the insurance and professional services sectors.\no Identifying key legal\, regulatory and commercial risks associated with the use of AI in the insurance and professional services sectors.\no Understanding key legal\, ethical\, risk and compliance considerations when deploying AI tools.\no Applying practical frameworks for responsible AI adoption aligned with industry standards and legal obligations. \nRegistrations: Microsoft Virtual Events Powered by Teams
URL:https://uac.org.au/event/emerging-risk-the-benefits-and-risks-of-artificial-intelligence/
CATEGORIES:Education & Training
ATTACH;FMTTYPE=image/jpeg:https://uac.org.au/wp-content/uploads/Clydeco-Logo_Hi-Res-Billboard_Grey-3-scaled.jpg
END:VEVENT
END:VCALENDAR