BEGIN:VCALENDAR
VERSION:2.0
PRODID:-//UAC - Insurance Calendar - ECPv6.15.11//NONSGML v1.0//EN
CALSCALE:GREGORIAN
METHOD:PUBLISH
X-ORIGINAL-URL:https://uac.org.au/calendar
X-WR-CALDESC:Events for UAC - Insurance Calendar
REFRESH-INTERVAL;VALUE=DURATION:PT1H
X-Robots-Tag:noindex
X-PUBLISHED-TTL:PT1H
BEGIN:VTIMEZONE
TZID:Australia/Brisbane
BEGIN:STANDARD
TZOFFSETFROM:+1000
TZOFFSETTO:+1000
TZNAME:AEST
DTSTART:20240101T000000
END:STANDARD
END:VTIMEZONE
BEGIN:VEVENT
DTSTART;VALUE=DATE:20250831
DTEND;VALUE=DATE:20250903
DTSTAMP:20260422T133522
CREATED:20250203T001446Z
LAST-MODIFIED:20250203T001446Z
UID:2800-1756598400-1756857599@uac.org.au
SUMMARY:CBN Conference
DESCRIPTION:
URL:https://uac.org.au/calendar/event/cbn-conference-2/
END:VEVENT
BEGIN:VEVENT
DTSTART;VALUE=DATE:20250902
DTEND;VALUE=DATE:20250903
DTSTAMP:20260422T133522
CREATED:20250717T223536Z
LAST-MODIFIED:20250717T223536Z
UID:3690-1756771200-1756857599@uac.org.au
SUMMARY:Steadfast Expo Launceston
DESCRIPTION:
URL:https://uac.org.au/calendar/event/steadfast-expo-launceston/
LOCATION:Hotel Grand Chancellor Launceston\, 29 Cameron St\, Launceston\, TAS\, 7250
END:VEVENT
BEGIN:VEVENT
DTSTART;VALUE=DATE:20250903
DTEND;VALUE=DATE:20250906
DTSTAMP:20260422T133522
CREATED:20250203T021414Z
LAST-MODIFIED:20250203T021414Z
UID:2802-1756857600-1757116799@uac.org.au
SUMMARY:CQIB Conference
DESCRIPTION:
URL:https://uac.org.au/calendar/event/cqib-conference-2/
END:VEVENT
BEGIN:VEVENT
DTSTART;VALUE=DATE:20250903
DTEND;VALUE=DATE:20250904
DTSTAMP:20260422T133522
CREATED:20250717T223713Z
LAST-MODIFIED:20250717T223713Z
UID:3693-1756857600-1756943999@uac.org.au
SUMMARY:Steadfast Expo Melbourne
DESCRIPTION:
URL:https://uac.org.au/calendar/event/steadfast-expo-melbourne/
LOCATION:Marvel Stadium\, 740 Bourke St\, Docklands\, VIC\, 3008
END:VEVENT
BEGIN:VEVENT
DTSTART;VALUE=DATE:20250904
DTEND;VALUE=DATE:20250905
DTSTAMP:20260422T133522
CREATED:20250717T223925Z
LAST-MODIFIED:20250717T223925Z
UID:3696-1756944000-1757030399@uac.org.au
SUMMARY:Steadfast Expo Sydney
DESCRIPTION:
URL:https://uac.org.au/calendar/event/steadfast-expo-sydney/
LOCATION:Australian Turf Club Randwick\, Royal Randwick Racecourse\, Alison Road\, Randwick\, NSW\, 2031
END:VEVENT
BEGIN:VEVENT
DTSTART;VALUE=DATE:20250908
DTEND;VALUE=DATE:20250911
DTSTAMP:20260422T133522
CREATED:20250203T021444Z
LAST-MODIFIED:20250203T021444Z
UID:2804-1757289600-1757548799@uac.org.au
SUMMARY:Envest Conference
DESCRIPTION:
URL:https://uac.org.au/calendar/event/envest-conference/
END:VEVENT
BEGIN:VEVENT
DTSTART;VALUE=DATE:20250908
DTEND;VALUE=DATE:20250909
DTSTAMP:20260422T133522
CREATED:20250717T224016Z
LAST-MODIFIED:20250717T224016Z
UID:3699-1757289600-1757375999@uac.org.au
SUMMARY:Steadfast Expo Perth
DESCRIPTION:
URL:https://uac.org.au/calendar/event/steadfast-expo-perth/
LOCATION:Crown Complex\, Burswood\, Great Eastern Hwy\, Perth\, WA\, 6100\, Australia
END:VEVENT
BEGIN:VEVENT
DTSTART;VALUE=DATE:20250910
DTEND;VALUE=DATE:20250911
DTSTAMP:20260422T133522
CREATED:20250717T224129Z
LAST-MODIFIED:20250717T224129Z
UID:3701-1757462400-1757548799@uac.org.au
SUMMARY:Steadfast Expo Adelaide
DESCRIPTION:
URL:https://uac.org.au/calendar/event/steadfast-expo-adelaide/
LOCATION:Hilton Hotel Adelaide\, 233 Victoria Sq\, Adelaide\, SA\, 5000
END:VEVENT
BEGIN:VEVENT
DTSTART;TZID=Australia/Brisbane:20250916T090000
DTEND;TZID=Australia/Brisbane:20250916T140000
DTSTAMP:20260422T133522
CREATED:20250203T021526Z
LAST-MODIFIED:20250203T021526Z
UID:2806-1758013200-1758031200@uac.org.au
SUMMARY:UAC 2025 Parramatta Market Exchange
DESCRIPTION:Refer to “Events” Tab.
URL:https://uac.org.au/calendar/event/uac-2025-parramatta-market-exchange/
END:VEVENT
BEGIN:VEVENT
DTSTART;VALUE=DATE:20250918
DTEND;VALUE=DATE:20250919
DTSTAMP:20260422T133522
CREATED:20250717T224317Z
LAST-MODIFIED:20250717T224317Z
UID:3704-1758153600-1758239999@uac.org.au
SUMMARY:Steadfast Expo Brisbane
DESCRIPTION:
URL:https://uac.org.au/calendar/event/steadfast-expo-brisbane/
LOCATION:The Star Brisbane\, 33 William Street\, Brisbane City\, QLD\, 4000
END:VEVENT
BEGIN:VEVENT
DTSTART;VALUE=DATE:20250922
DTEND;VALUE=DATE:20250926
DTSTAMP:20260422T133522
CREATED:20250703T045005Z
LAST-MODIFIED:20250703T045005Z
UID:3517-1758499200-1758844799@uac.org.au
SUMMARY:UIG Group Conference
DESCRIPTION:
URL:https://uac.org.au/calendar/event/uig-group-conference/
END:VEVENT
END:VCALENDAR