BEGIN:VCALENDAR
VERSION:2.0
PRODID:-//UAC - Insurance Calendar - ECPv6.15.11//NONSGML v1.0//EN
CALSCALE:GREGORIAN
METHOD:PUBLISH
X-ORIGINAL-URL:https://uac.org.au/calendar
X-WR-CALDESC:Events for UAC - Insurance Calendar
REFRESH-INTERVAL;VALUE=DURATION:PT1H
X-Robots-Tag:noindex
X-PUBLISHED-TTL:PT1H
BEGIN:VTIMEZONE
TZID:Australia/Brisbane
BEGIN:STANDARD
TZOFFSETFROM:+1000
TZOFFSETTO:+1000
TZNAME:AEST
DTSTART:20230101T000000
END:STANDARD
END:VTIMEZONE
BEGIN:VEVENT
DTSTART;TZID=Australia/Brisbane:20240723T130000
DTEND;TZID=Australia/Brisbane:20240723T150000
DTSTAMP:20260422T133600
CREATED:20240201T020509Z
LAST-MODIFIED:20240201T020509Z
UID:830-1721739600-1721746800@uac.org.au
SUMMARY:WEBINAR: Underwriting 101: Delving into the Dark Arts and understanding how an Underwriter looks at a risk
DESCRIPTION:Jeremy Scott-Mackenzie & Hamish McDonald Nye \nWe’re pleased to introduce Jeremy Scott-Mackenzie\, Head Casualty & FinPro ANZ\, Portfolio Owner Executive Risk APAC & LATAM and a Director of Swiss Re Corporate Solutions for this exciting webinar\, where Jeremy will be speaking about the technical art of underwriting. Jeremy brings a wealth of experience to the table and is widely considered amongst the finest underwriters in the Australian Financial Lines market today. Jeremy will shed light on the often underappreciated technical analysis that is involved from submission through to quote and the challenges that underwriters are facing in the current hard market. This webinar is a must for all brokers who want to better understand how underwriters think.
URL:https://uac.org.au/calendar/event/webinar-underwriting-101-delving-into-the-dark-arts-and-understanding-how-an-underwriter-looks-at-a-risk/
ATTACH;FMTTYPE=image/webp:https://uac.org.au/calendar/wp-content/uploads/prorisk_blue.webp
END:VEVENT
BEGIN:VEVENT
DTSTART;TZID=Australia/Brisbane:20240710T090000
DTEND;TZID=Australia/Brisbane:20240710T140000
DTSTAMP:20260422T133600
CREATED:20240130T004644Z
LAST-MODIFIED:20240130T004644Z
UID:736-1720602000-1720620000@uac.org.au
SUMMARY:UAC 2024 Brisbane Underwriting Expo
DESCRIPTION:
URL:https://uac.org.au/calendar/event/uac-2024-brisbane-underwriting-expo/
LOCATION:Brisbane Convention and Exhibition Centre
ATTACH;FMTTYPE=image/png:https://uac.org.au/calendar/wp-content/uploads/logo.png
END:VEVENT
BEGIN:VEVENT
DTSTART;VALUE=DATE:20240620
DTEND;VALUE=DATE:20240621
DTSTAMP:20260422T133600
CREATED:20240130T223535Z
LAST-MODIFIED:20240130T223535Z
UID:764-1718841600-1718927999@uac.org.au
SUMMARY:CQIB Breakfast Meeting
DESCRIPTION:
URL:https://uac.org.au/calendar/event/cqib-breakfast-meeting-7/
LOCATION:Brisbane
ATTACH;FMTTYPE=image/png:https://uac.org.au/calendar/wp-content/uploads/CQIB_Logo-Converted.png
END:VEVENT
BEGIN:VEVENT
DTSTART;VALUE=DATE:20240605
DTEND;VALUE=DATE:20240606
DTSTAMP:20260422T133600
CREATED:20240130T223406Z
LAST-MODIFIED:20240130T223406Z
UID:760-1717545600-1717631999@uac.org.au
SUMMARY:QLD Day Awards Lunch
DESCRIPTION:
URL:https://uac.org.au/calendar/event/qld-day-awards-lunch/
LOCATION:The Rivershed\, HSW
ATTACH;FMTTYPE=image/png:https://uac.org.au/calendar/wp-content/uploads/CQIB_Logo-Converted.png
END:VEVENT
BEGIN:VEVENT
DTSTART;TZID=Australia/Brisbane:20240604T130000
DTEND;TZID=Australia/Brisbane:20240604T150000
DTSTAMP:20260422T133600
CREATED:20240201T005312Z
LAST-MODIFIED:20240201T005312Z
UID:828-1717506000-1717513200@uac.org.au
SUMMARY:WEBINAR: Coverage Analysis 101
DESCRIPTION:Chloe Thomas & Bianca Parussolo \nDuring this webinar\, you’ll learn a simple to follow\, logical process that brokers\, claims staff\, lawyers\, insureds or loss assessors can use to analyse the indemnity position with respect to any given factual scenario. This step by step guide will help demystify the process of how insurers assess coverage. As you will see\, there are 10 simple steps that\, if followed correctly\, will help give you the correct coverage response. You’ll also learn our tips on making sure your claim is handled expeditiously.
URL:https://uac.org.au/calendar/event/webinar-coverage-analysis-101/
ATTACH;FMTTYPE=image/webp:https://uac.org.au/calendar/wp-content/uploads/prorisk_blue.webp
END:VEVENT
BEGIN:VEVENT
DTSTART;VALUE=DATE:20240523
DTEND;VALUE=DATE:20240524
DTSTAMP:20260422T133600
CREATED:20240130T002626Z
LAST-MODIFIED:20240130T002626Z
UID:722-1716422400-1716508799@uac.org.au
SUMMARY:Steadfast Professional Development Day (Sydney)
DESCRIPTION:
URL:https://uac.org.au/calendar/event/steadfast-professional-development-day-sydney/
ATTACH;FMTTYPE=image/png:https://uac.org.au/calendar/wp-content/uploads/Steadfast-Logo.png
END:VEVENT
BEGIN:VEVENT
DTSTART;VALUE=DATE:20240521
DTEND;VALUE=DATE:20240522
DTSTAMP:20260422T133600
CREATED:20240130T002445Z
LAST-MODIFIED:20240130T002445Z
UID:720-1716249600-1716335999@uac.org.au
SUMMARY:Steadfast Professional Development Day (Brisbane)
DESCRIPTION:
URL:https://uac.org.au/calendar/event/steadfast-professional-development-day-brisbane/
ATTACH;FMTTYPE=image/png:https://uac.org.au/calendar/wp-content/uploads/Steadfast-Logo.png
END:VEVENT
BEGIN:VEVENT
DTSTART;VALUE=DATE:20240516
DTEND;VALUE=DATE:20240517
DTSTAMP:20260422T133600
CREATED:20240130T002157Z
LAST-MODIFIED:20240130T002157Z
UID:718-1715817600-1715903999@uac.org.au
SUMMARY:Steadfast Professional Development Day (Adelaide)
DESCRIPTION:
URL:https://uac.org.au/calendar/event/steadfast-professional-development-day-adelaide/
ATTACH;FMTTYPE=image/png:https://uac.org.au/calendar/wp-content/uploads/Steadfast-Logo.png
END:VEVENT
BEGIN:VEVENT
DTSTART;TZID=Australia/Brisbane:20240514T130000
DTEND;TZID=Australia/Brisbane:20240514T150000
DTSTAMP:20260422T133600
CREATED:20240201T005119Z
LAST-MODIFIED:20240201T005119Z
UID:826-1715691600-1715698800@uac.org.au
SUMMARY:WEBINAR: 8 Ways to Protect Your Small Business from Cyber Attack
DESCRIPTION:Aimee Pozoglou & Hamish McDonald Nye \nOur guide to helping small to medium sized enterprises increase their cyber resilience by putting in place practical\, common sense and effective measures. \nThe reality of modern supply chains is that small businesses and large businesses work together. Each large business will have a network of small businesses providing critical services and products. In fact\, small businesses are often the weakest link in the security profile of modern organisations. But the good news is there are multiple ways to protect your small business from cybercrime. In this webinar\, we outline\, what are in our opinion the most important measures that small businesses can do to increase their cyber resilience.
URL:https://uac.org.au/calendar/event/webinar-8-ways-to-protect-your-small-business-from-cyber-attack/
ATTACH;FMTTYPE=image/webp:https://uac.org.au/calendar/wp-content/uploads/prorisk_blue.webp
END:VEVENT
BEGIN:VEVENT
DTSTART;VALUE=DATE:20240514
DTEND;VALUE=DATE:20240515
DTSTAMP:20260422T133600
CREATED:20240130T002046Z
LAST-MODIFIED:20240130T002046Z
UID:716-1715644800-1715731199@uac.org.au
SUMMARY:Steadfast Professional Development Day (Perth)
DESCRIPTION:
URL:https://uac.org.au/calendar/event/steadfast-professional-development-day-perth/
ATTACH;FMTTYPE=image/png:https://uac.org.au/calendar/wp-content/uploads/Steadfast-Logo.png
END:VEVENT
BEGIN:VEVENT
DTSTART;TZID=Australia/Brisbane:20240507T130000
DTEND;TZID=Australia/Brisbane:20240507T150000
DTSTAMP:20260422T133600
CREATED:20240201T004943Z
LAST-MODIFIED:20240201T004943Z
UID:824-1715086800-1715094000@uac.org.au
SUMMARY:WEBINAR: Schemes and Master Policies Master Class from the Master of Schemes
DESCRIPTION:Hamish McDonald Nye & Chris Varkoly \nHave you been having issues with an insurer on a scheme? Is the insurer putting up rates that are not in line with the market? Do you want to know how to execute a portfolio transfer? Do you represent an association that would like to provide additional benefits to its members? Do you look after a scheme that’s a lot of manual work and you’re looking for an easier way to do business? Do you want to provide additional value added benefits to the scheme participants? Do you want to learn more about master policies? \nThen this webinar is for you! \nAt ProRisk\, schemes and master policies are our specialty. We’ve built our business on making transacting scheme business as easy as possible. \nYou’ll hear from the Master of Schemes himself\, our very own Chris Varkoly\, ProRisk’s National Business Development Manager\, on how you can set up and administer scheme business\, increase your own revenue by reducing overheads and increase benefits to scheme participants. \nChris has over 15 years of experience managing scheme arrangements. Chris joined ProRisk in July 2013. Chris has excellent credentials backed by a sound underwriting background in affinity\, property\, liability and other general insurance classes. Chris has also had experience dealing into the London\, Singapore and US markets. Chris obtained this background having worked in various underwriting and development roles with CGU\, QBE\, Vero and underwriting agencies based in Australia. Chris has a national focus and is based out of our Sydney office.
URL:https://uac.org.au/calendar/event/webinar-schemes-and-master-policies-master-class-from-the-master-of-schemes-2/
ATTACH;FMTTYPE=image/webp:https://uac.org.au/calendar/wp-content/uploads/prorisk_blue.webp
END:VEVENT
BEGIN:VEVENT
DTSTART;TZID=Australia/Brisbane:20240507T090000
DTEND;TZID=Australia/Brisbane:20240507T140000
DTSTAMP:20260422T133600
CREATED:20240130T004358Z
LAST-MODIFIED:20240130T004358Z
UID:732-1715072400-1715090400@uac.org.au
SUMMARY:UAC 2024 Melbourne Underwriting Expo
DESCRIPTION:
URL:https://uac.org.au/calendar/event/uac-2024-melbourne-underwriting-expo/
LOCATION:Melbourne Convention and Exhibition Centre
ATTACH;FMTTYPE=image/png:https://uac.org.au/calendar/wp-content/uploads/logo.png
END:VEVENT
BEGIN:VEVENT
DTSTART;VALUE=DATE:20240502
DTEND;VALUE=DATE:20240503
DTSTAMP:20260422T133600
CREATED:20240130T001944Z
LAST-MODIFIED:20240130T001944Z
UID:714-1714608000-1714694399@uac.org.au
SUMMARY:Steadfast Professional Development Day (Melbourne)
DESCRIPTION:
URL:https://uac.org.au/calendar/event/steadfast-professional-development-day-melbourne/
ATTACH;FMTTYPE=image/png:https://uac.org.au/calendar/wp-content/uploads/Steadfast-Logo.png
END:VEVENT
BEGIN:VEVENT
DTSTART;VALUE=DATE:20240501
DTEND;VALUE=DATE:20240502
DTSTAMP:20260422T133600
CREATED:20240130T001825Z
LAST-MODIFIED:20240130T001825Z
UID:712-1714521600-1714607999@uac.org.au
SUMMARY:Steadfast Professional Development Day (Launceston)
DESCRIPTION:
URL:https://uac.org.au/calendar/event/steadfast-professional-development-day-launceston/
ATTACH;FMTTYPE=image/png:https://uac.org.au/calendar/wp-content/uploads/Steadfast-Logo.png
END:VEVENT
BEGIN:VEVENT
DTSTART;TZID=Australia/Brisbane:20240423T130000
DTEND;TZID=Australia/Brisbane:20240423T150000
DTSTAMP:20260422T133600
CREATED:20240201T004758Z
LAST-MODIFIED:20240201T004758Z
UID:822-1713877200-1713884400@uac.org.au
SUMMARY:WEBINAR: How to Bind Like a Pro
DESCRIPTION:Hamish McDonald Nye & Matthew Harkin \nIn this webinar\, we’ll be running a live demonstration of our new online trading platform\, ProBind. You’ll hear from the designers of the system who will give you a masterclass on an end to end policy transaction. During this session\, you’ll learn: \n\nHow to quote like a pro\nHow to bind cover in under 2 minutes\nHow to get the most out of the platform\nHow to tailor a policy for your client’s needs\nHow to cross-sell new products
URL:https://uac.org.au/calendar/event/webinar-how-to-bind-like-a-pro/
ATTACH;FMTTYPE=image/webp:https://uac.org.au/calendar/wp-content/uploads/prorisk_blue.webp
END:VEVENT
BEGIN:VEVENT
DTSTART;VALUE=DATE:20240418
DTEND;VALUE=DATE:20240419
DTSTAMP:20260422T133600
CREATED:20240130T223149Z
LAST-MODIFIED:20240130T223149Z
UID:758-1713398400-1713484799@uac.org.au
SUMMARY:CQIB Brisbane Breakfast Meeting
DESCRIPTION:
URL:https://uac.org.au/calendar/event/cqib-brisbane-breakfast-meeting/
LOCATION:Brisbane
ATTACH;FMTTYPE=image/png:https://uac.org.au/calendar/wp-content/uploads/CQIB_Logo-Converted.png
END:VEVENT
BEGIN:VEVENT
DTSTART;TZID=Australia/Brisbane:20240416T130000
DTEND;TZID=Australia/Brisbane:20240416T140000
DTSTAMP:20260422T133600
CREATED:20240318T112636Z
LAST-MODIFIED:20240318T112926Z
UID:1171-1713272400-1713276000@uac.org.au
SUMMARY:Hall & Wilcox Webinar
DESCRIPTION:Partner Chris Brown will discuss the major legal\, financial and tax challenges you might face when selling your business or a significant stake. \nThe transition of ownership of a company involves intricate legal\, tax\, and accounting considerations that necessitate careful navigation. In this presentation\, we’ll explore practical insights into crafting effective succession solutions. \nFrom structuring legal frameworks to understanding tax implications and accounting intricacies\, we aim to equip you with the knowledge needed for a seamless ownership transition. \nRegister here https://ecomms.hallandwilcox.com.au/s/dfb513458ce10a8e9759c11ad7f27a52b64f758c
URL:https://uac.org.au/calendar/event/hall-wilcox-webinar/
CATEGORIES:Webinar
ATTACH;FMTTYPE=image/png:https://uac.org.au/calendar/wp-content/uploads/HW-logo-Seminar.png
END:VEVENT
BEGIN:VEVENT
DTSTART;VALUE=DATE:20240412
DTEND;VALUE=DATE:20240619
DTSTAMP:20260422T133600
CREATED:20240201T001335Z
LAST-MODIFIED:20240201T001335Z
UID:809-1712880000-1718755199@uac.org.au
SUMMARY:Ausure Conference
DESCRIPTION:
URL:https://uac.org.au/calendar/event/ausure-conference-2/
LOCATION:South Africa
ATTACH;FMTTYPE=image/png:https://uac.org.au/calendar/wp-content/uploads/cropped-cropped-logo2-1.png
END:VEVENT
BEGIN:VEVENT
DTSTART;TZID=Australia/Brisbane:20240404T130000
DTEND;TZID=Australia/Brisbane:20240404T150000
DTSTAMP:20260422T133600
CREATED:20240201T004605Z
LAST-MODIFIED:20240201T004605Z
UID:820-1712235600-1712242800@uac.org.au
SUMMARY:WEBINAR: Product Training: Professional Indemnity
DESCRIPTION:Hamish McDonald Nye & Vanessa MacDonald \nLearn more about the product that ProRisk is most famous for and the first product that we started selling back in 2003. You’ll hear directly from the product designers on how they built this new product from the ground up\, completely re-designing it for platform delivery. We’ll review underwriting tips\, tricks and claims examples\, our target market and underwriting appetite.
URL:https://uac.org.au/calendar/event/webinar-product-training-professional-indemnity/
ATTACH;FMTTYPE=image/webp:https://uac.org.au/calendar/wp-content/uploads/prorisk_blue.webp
END:VEVENT
BEGIN:VEVENT
DTSTART;TZID=Australia/Brisbane:20240404T090000
DTEND;TZID=Australia/Brisbane:20240404T140000
DTSTAMP:20260422T133600
CREATED:20240129T041852Z
LAST-MODIFIED:20240130T003557Z
UID:669-1712221200-1712239200@uac.org.au
SUMMARY:UAC 2024 Gold Coast Market Exchange
DESCRIPTION:
URL:https://uac.org.au/calendar/event/uac-2024-gold-coast-market-exchange/
LOCATION:Gold Coast Convention Centre
ATTACH;FMTTYPE=image/png:https://uac.org.au/calendar/wp-content/uploads/logo.png
END:VEVENT
BEGIN:VEVENT
DTSTART;VALUE=DATE:20240325
DTEND;VALUE=DATE:20240329
DTSTAMP:20260422T133600
CREATED:20240124T035322Z
LAST-MODIFIED:20240129T231053Z
UID:667-1711324800-1711670399@uac.org.au
SUMMARY:Steadfast Convention
DESCRIPTION:Our 2024 theme\, ‘Connect’\, emulates our united front\, how we collaborate\, and the power to advance\, share ideas and drive change through our connections. The Convention allows us to grow and foster a positive environment where diverse minds converge and forge meaningful alliances. It will provide you with invaluable insights from thought leaders\, visionaries and industry experts across the country.
URL:https://uac.org.au/calendar/event/steadfast-convention/
LOCATION:Brisbane Convention & Exhibition Centre
ATTACH;FMTTYPE=image/png:https://uac.org.au/calendar/wp-content/uploads/Steadfast-Logo.png
END:VEVENT
BEGIN:VEVENT
DTSTART;VALUE=DATE:20240308
DTEND;VALUE=DATE:20240309
DTSTAMP:20260422T133600
CREATED:20240130T224453Z
LAST-MODIFIED:20240130T224453Z
UID:779-1709856000-1709942399@uac.org.au
SUMMARY:Pop Up Expo
DESCRIPTION:
URL:https://uac.org.au/calendar/event/pop-up-expo-4/
LOCATION:Cairns
ATTACH;FMTTYPE=image/png:https://uac.org.au/calendar/wp-content/uploads/CQIB_Logo-Converted.png
END:VEVENT
BEGIN:VEVENT
DTSTART;VALUE=DATE:20240307
DTEND;VALUE=DATE:20240308
DTSTAMP:20260422T133600
CREATED:20240130T224350Z
LAST-MODIFIED:20240130T224350Z
UID:775-1709769600-1709855999@uac.org.au
SUMMARY:Pop Up Expo
DESCRIPTION:
URL:https://uac.org.au/calendar/event/pop-up-expo-3/
LOCATION:Townsville
ATTACH;FMTTYPE=image/png:https://uac.org.au/calendar/wp-content/uploads/CQIB_Logo-Converted.png
END:VEVENT
BEGIN:VEVENT
DTSTART;VALUE=DATE:20240306
DTEND;VALUE=DATE:20240307
DTSTAMP:20260422T133600
CREATED:20240130T224255Z
LAST-MODIFIED:20240130T224255Z
UID:771-1709683200-1709769599@uac.org.au
SUMMARY:Pop Up Expo
DESCRIPTION:
URL:https://uac.org.au/calendar/event/pop-up-expo-2/
LOCATION:Mckay
ATTACH;FMTTYPE=image/png:https://uac.org.au/calendar/wp-content/uploads/CQIB_Logo-Converted.png
END:VEVENT
BEGIN:VEVENT
DTSTART;TZID=Australia/Brisbane:20240305T130000
DTEND;TZID=Australia/Brisbane:20240305T150000
DTSTAMP:20260422T133600
CREATED:20240201T004403Z
LAST-MODIFIED:20240201T004403Z
UID:818-1709643600-1709650800@uac.org.au
SUMMARY:WEBINAR: Product Training: Management Liability
DESCRIPTION:Hamish McDonald Nye & Aimee Pozoglou \nDid you know that there are 2.78 million companies registered in Australia? Yet\, according to statistics released by APRA\, very few of these companies seem to buy Management Liability insurance. But there is no reason why these uninsured exposures should remain that way. \nManagement Liability insurance covers certain risks arising from the actions and decisions of directors\, officers and managers\, which arise from the running of a business. These actions and decisions could include improper conduct such as sexual harassment\, unfair dismissal or defamation. Australian SMEs can not afford to ignore the legal and regulatory risks of their operations. Fines from various government or industry regulatory bodies can reach hundreds of thousands\, or even millions of dollars for very serious breaches. In addition\, the cost of defending litigation can cripple otherwise healthy and profitable businesses. \nDuring this webinar\, you’ll hear from the experts who designed and built ProRisk’s Management Liability offering. We’ll take you through the product\, what it covers and how it works with reference to real life claims examples.
URL:https://uac.org.au/calendar/event/webinar-product-training-management-liability/
ATTACH;FMTTYPE=image/webp:https://uac.org.au/calendar/wp-content/uploads/prorisk_blue.webp
END:VEVENT
BEGIN:VEVENT
DTSTART;VALUE=DATE:20240305
DTEND;VALUE=DATE:20240306
DTSTAMP:20260422T133600
CREATED:20240130T224146Z
LAST-MODIFIED:20240130T224146Z
UID:767-1709596800-1709683199@uac.org.au
SUMMARY:Pop Up Expo
DESCRIPTION:
URL:https://uac.org.au/calendar/event/pop-up-expo/
LOCATION:Rockhampton
ATTACH;FMTTYPE=image/png:https://uac.org.au/calendar/wp-content/uploads/CQIB_Logo-Converted.png
END:VEVENT
BEGIN:VEVENT
DTSTART;TZID=Australia/Brisbane:20240228T140000
DTEND;TZID=Australia/Brisbane:20240228T150000
DTSTAMP:20260422T133600
CREATED:20240201T000934Z
LAST-MODIFIED:20240201T000934Z
UID:805-1709128800-1709132400@uac.org.au
SUMMARY:Webinar: Discover the benefits of international talent partnering.
DESCRIPTION:
URL:https://uac.org.au/calendar/event/webinar-discover-the-benefits-of-international-talent-partnering/
ATTACH;FMTTYPE=image/png:https://uac.org.au/calendar/wp-content/uploads/ASW-logo-seminar.png
END:VEVENT
BEGIN:VEVENT
DTSTART;TZID=Australia/Brisbane:20240227T130000
DTEND;TZID=Australia/Brisbane:20240227T150000
DTSTAMP:20260422T133600
CREATED:20240201T004216Z
LAST-MODIFIED:20240201T004216Z
UID:816-1709038800-1709046000@uac.org.au
SUMMARY:WEBINAR: Tips for Growing your Insurance Broking Business
DESCRIPTION:Hamish McDonald Nye & Jaydon Burke-Douglas \nAre you an authorised representative\, or start up insurance brokerage? Are you looking to gain an insight into what it takes to succeed as a broker in today’s market? Do you want to know more about proven strategies that will help you to grow your book and propel your business into the stratosphere? Then you need to register for this webinar today. This webinar\, presented by our industry experts\, discusses simple\, proven techniques that will help you to grow your insurance brokerage.
URL:https://uac.org.au/calendar/event/webinar-tips-for-growing-your-insurance-broking-business/
ATTACH;FMTTYPE=image/webp:https://uac.org.au/calendar/wp-content/uploads/prorisk_blue.webp
END:VEVENT
BEGIN:VEVENT
DTSTART;TZID=Australia/Brisbane:20240223T073000
DTEND;TZID=Australia/Brisbane:20240223T090000
DTSTAMP:20260422T133600
CREATED:20240201T000532Z
LAST-MODIFIED:20240201T000532Z
UID:800-1708673400-1708678800@uac.org.au
SUMMARY:In Person Seminar: Section 28 and 54 of the ICA: What Underwriting Evidence is Required?
DESCRIPTION:
URL:https://uac.org.au/calendar/event/in-person-seminar-section-28-and-54-of-the-ica-what-underwriting-evidence-is-required/
LOCATION:Hall & Wilcox
ATTACH;FMTTYPE=image/png:https://uac.org.au/calendar/wp-content/uploads/HW-logo-Seminar.png
END:VEVENT
BEGIN:VEVENT
DTSTART;VALUE=DATE:20240223
DTEND;VALUE=DATE:20240224
DTSTAMP:20260422T133600
CREATED:20240130T223034Z
LAST-MODIFIED:20240130T223034Z
UID:754-1708646400-1708732799@uac.org.au
SUMMARY:CQIB All Industry Long Lunch
DESCRIPTION:
URL:https://uac.org.au/calendar/event/cqib-all-industry-long-lunch/
LOCATION:Plaza Terrace Room\, BCEC
ATTACH;FMTTYPE=image/png:https://uac.org.au/calendar/wp-content/uploads/CQIB_Logo-Converted.png
END:VEVENT
END:VCALENDAR