BEGIN:VCALENDAR
VERSION:2.0
PRODID:-//UAC - Insurance Calendar - ECPv6.15.11//NONSGML v1.0//EN
CALSCALE:GREGORIAN
METHOD:PUBLISH
X-WR-CALNAME:UAC - Insurance Calendar
X-ORIGINAL-URL:https://uac.org.au/calendar
X-WR-CALDESC:Events for UAC - Insurance Calendar
REFRESH-INTERVAL;VALUE=DURATION:PT1H
X-Robots-Tag:noindex
X-PUBLISHED-TTL:PT1H
BEGIN:VTIMEZONE
TZID:Australia/Brisbane
BEGIN:STANDARD
TZOFFSETFROM:+1000
TZOFFSETTO:+1000
TZNAME:AEST
DTSTART:20230101T000000
END:STANDARD
END:VTIMEZONE
BEGIN:VEVENT
DTSTART;VALUE=DATE:20250904
DTEND;VALUE=DATE:20250905
DTSTAMP:20260422T065044
CREATED:20250717T223925Z
LAST-MODIFIED:20250717T223925Z
UID:3696-1756944000-1757030399@uac.org.au
SUMMARY:Steadfast Expo Sydney
DESCRIPTION:
URL:https://uac.org.au/calendar/event/steadfast-expo-sydney/
LOCATION:Australian Turf Club Randwick\, Royal Randwick Racecourse\, Alison Road\, Randwick\, NSW\, 2031
END:VEVENT
BEGIN:VEVENT
DTSTART;VALUE=DATE:20250903
DTEND;VALUE=DATE:20250904
DTSTAMP:20260422T065044
CREATED:20250717T223713Z
LAST-MODIFIED:20250717T223713Z
UID:3693-1756857600-1756943999@uac.org.au
SUMMARY:Steadfast Expo Melbourne
DESCRIPTION:
URL:https://uac.org.au/calendar/event/steadfast-expo-melbourne/
LOCATION:Marvel Stadium\, 740 Bourke St\, Docklands\, VIC\, 3008
END:VEVENT
BEGIN:VEVENT
DTSTART;VALUE=DATE:20250903
DTEND;VALUE=DATE:20250906
DTSTAMP:20260422T065044
CREATED:20250203T021414Z
LAST-MODIFIED:20250203T021414Z
UID:2802-1756857600-1757116799@uac.org.au
SUMMARY:CQIB Conference
DESCRIPTION:
URL:https://uac.org.au/calendar/event/cqib-conference-2/
END:VEVENT
BEGIN:VEVENT
DTSTART;VALUE=DATE:20250902
DTEND;VALUE=DATE:20250903
DTSTAMP:20260422T065044
CREATED:20250717T223536Z
LAST-MODIFIED:20250717T223536Z
UID:3690-1756771200-1756857599@uac.org.au
SUMMARY:Steadfast Expo Launceston
DESCRIPTION:
URL:https://uac.org.au/calendar/event/steadfast-expo-launceston/
LOCATION:Hotel Grand Chancellor Launceston\, 29 Cameron St\, Launceston\, TAS\, 7250
END:VEVENT
BEGIN:VEVENT
DTSTART;VALUE=DATE:20250831
DTEND;VALUE=DATE:20250903
DTSTAMP:20260422T065044
CREATED:20250203T001446Z
LAST-MODIFIED:20250203T001446Z
UID:2800-1756598400-1756857599@uac.org.au
SUMMARY:CBN Conference
DESCRIPTION:
URL:https://uac.org.au/calendar/event/cbn-conference-2/
END:VEVENT
BEGIN:VEVENT
DTSTART;TZID=Australia/Brisbane:20250813T090000
DTEND;TZID=Australia/Brisbane:20250813T140000
DTSTAMP:20260422T065044
CREATED:20250203T001345Z
LAST-MODIFIED:20250203T001345Z
UID:2798-1755075600-1755093600@uac.org.au
SUMMARY:UAC 2025 Adelaide Market Exchange
DESCRIPTION:Refer to “Events” Tab.
URL:https://uac.org.au/calendar/event/uac-2025-adelaide-market-exchange/
END:VEVENT
BEGIN:VEVENT
DTSTART;VALUE=DATE:20250813
DTEND;VALUE=DATE:20250816
DTSTAMP:20260422T065044
CREATED:20250703T044805Z
LAST-MODIFIED:20250703T044805Z
UID:3513-1755043200-1755302399@uac.org.au
SUMMARY:McLardy McShane Conference
DESCRIPTION:
URL:https://uac.org.au/calendar/event/mclardy-mcshane-conference-2/
END:VEVENT
BEGIN:VEVENT
DTSTART;VALUE=DATE:20250720
DTEND;VALUE=DATE:20250723
DTSTAMP:20260422T065044
CREATED:20250203T001243Z
LAST-MODIFIED:20250203T001243Z
UID:2796-1752969600-1753228799@uac.org.au
SUMMARY:MGA Conference
DESCRIPTION:
URL:https://uac.org.au/calendar/event/mga-conference/
END:VEVENT
BEGIN:VEVENT
DTSTART;VALUE=DATE:20250714
DTEND;VALUE=DATE:20250717
DTSTAMP:20260422T065044
CREATED:20250703T044850Z
LAST-MODIFIED:20250703T044850Z
UID:3515-1752451200-1752710399@uac.org.au
SUMMARY:SIG Conference
DESCRIPTION:
URL:https://uac.org.au/calendar/event/sig-conference/
END:VEVENT
BEGIN:VEVENT
DTSTART;TZID=Australia/Brisbane:20250708T090000
DTEND;TZID=Australia/Brisbane:20250708T140000
DTSTAMP:20260422T065044
CREATED:20250203T001203Z
LAST-MODIFIED:20250203T001203Z
UID:2794-1751965200-1751983200@uac.org.au
SUMMARY:UAC 2025 Brisbane Market Exchange
DESCRIPTION:Refer to “Events” Tab.
URL:https://uac.org.au/calendar/event/uac-2025-brisbane-market-exchange/
END:VEVENT
BEGIN:VEVENT
DTSTART;TZID=Australia/Brisbane:20250513T090000
DTEND;TZID=Australia/Brisbane:20250513T140000
DTSTAMP:20260422T065044
CREATED:20250203T001107Z
LAST-MODIFIED:20250203T001107Z
UID:2792-1747126800-1747144800@uac.org.au
SUMMARY:UAC 2025 Melbourne Market Exchange
DESCRIPTION:Refer to “Events” Tab.
URL:https://uac.org.au/calendar/event/uac-2025-melbourne-market-exchange/
END:VEVENT
BEGIN:VEVENT
DTSTART;TZID=Australia/Brisbane:20250410T090000
DTEND;TZID=Australia/Brisbane:20250410T140000
DTSTAMP:20260422T065044
CREATED:20250203T000958Z
LAST-MODIFIED:20250203T000958Z
UID:2790-1744275600-1744293600@uac.org.au
SUMMARY:UAC 2025 Newcastle Market Exchange
DESCRIPTION:Refer to “Events” Tab.
URL:https://uac.org.au/calendar/event/uac-2025-newcastle-market-exchange/
END:VEVENT
BEGIN:VEVENT
DTSTART;VALUE=DATE:20250323
DTEND;VALUE=DATE:20250326
DTSTAMP:20260422T065044
CREATED:20250203T000908Z
LAST-MODIFIED:20250203T000908Z
UID:2788-1742688000-1742947199@uac.org.au
SUMMARY:Steadfast Conference
DESCRIPTION:
URL:https://uac.org.au/calendar/event/steadfast-conference-2/
END:VEVENT
BEGIN:VEVENT
DTSTART;TZID=Australia/Brisbane:20250320T090000
DTEND;TZID=Australia/Brisbane:20250320T160000
DTSTAMP:20260422T065044
CREATED:20250306T033722Z
LAST-MODIFIED:20250307T030201Z
UID:3130-1742461200-1742486400@uac.org.au
SUMMARY:Compliance Advocacy Solutions: Brisbane Compliance Workshop
DESCRIPTION:Proudly presented by The General Insurance Compliance Academy® \nA practical\, business-focused compliance workshop for people working in the general insurance industry\n\n\n\n\nI am delighted to present my Brisbane compliance workshop\, completely refreshed and updated to meet the 2025 regulatory and compliance changes. \nSome of the new content for the workshop includes: \n\nThe ICA’s response to the Parliamentary inquiry and Code review recommendations\nCPS 230 readiness for General Insurance – what have we learnt so far?\nManaging customers personal information\nGovernance arrangements for AI – ASIC Report 798\nComplaints handling in general insurance – ASIC Report 802\nReportable situations: findings of ASIC’s review\n\n\n\n\n\nPURPOSE\nThe purpose of this unique\, general insurance (GI) compliance workshop is to provide participants with the insights\, tools and understanding to manage the challenges posed by a volatile regulatory and compliance environment. \nCompliance that Protects\nYou will learn how compliance can protect your business and its brand\, people & customers from harm & detriment and be aligned and provide value to your business operations. \n\n\n\n\nTHE LEARNING HUB\nI have listened to your feedback from previous workshops and incorporated ‘learning hubs’ so that participants can share and learn from each other’s experience. \nThe learning hub is an exciting concept providing time and a learning environment throughout the day to pause\, reflect\, engage in critical thinking and share experiences and perspectives with other workshop participants \nI look forward to you joining me in Brisbane on the 20th March 2025. \nPaul Muir\nDirector\, Compliance Advocacy Solutions
URL:https://uac.org.au/calendar/event/brisbane-compliance-workshop/
END:VEVENT
BEGIN:VEVENT
DTSTART;VALUE=DATE:20250304
DTEND;VALUE=DATE:20250306
DTSTAMP:20260422T065044
CREATED:20250213T020355Z
LAST-MODIFIED:20250213T020355Z
UID:3004-1741046400-1741219199@uac.org.au
SUMMARY:ANZIIF Insurance Risk Management Study Course
DESCRIPTION:The course is a unique two-day\, practical study-based\, guided learning experience. Participants will immerse themselves into risk management by analysing a case study and learn how to present their findings. To run it successfully\, places on the study course are limited with a maximum of 30 participants.  \n  \nRegistrations via link below \nhttps://anziif.com/professional-development/events/insurance-risk-management-study-course
URL:https://uac.org.au/calendar/event/anziif-insurance-risk-management-study-course/
END:VEVENT
BEGIN:VEVENT
DTSTART;VALUE=DATE:20250223
DTEND;VALUE=DATE:20250226
DTSTAMP:20260422T065044
CREATED:20250203T000350Z
LAST-MODIFIED:20250203T000350Z
UID:2780-1740268800-1740527999@uac.org.au
SUMMARY:Ausure Conference
DESCRIPTION:
URL:https://uac.org.au/calendar/event/ausure-conference-3/
END:VEVENT
BEGIN:VEVENT
DTSTART;TZID=Australia/Brisbane:20250207T090000
DTEND;TZID=Australia/Brisbane:20250207T140000
DTSTAMP:20260422T065044
CREATED:20250203T000705Z
LAST-MODIFIED:20250203T000705Z
UID:2784-1738918800-1738936800@uac.org.au
SUMMARY:UAC Five Sigma AI 2025 Sydney Market Exchange
DESCRIPTION:Refer to “Events” Tab.
URL:https://uac.org.au/calendar/event/uac-five-sigma-ai-2025-sydney-market-exchange/
END:VEVENT
BEGIN:VEVENT
DTSTART;VALUE=DATE:20241128
DTEND;VALUE=DATE:20241129
DTSTAMP:20260422T065044
CREATED:20240130T001532Z
LAST-MODIFIED:20240130T001532Z
UID:710-1732752000-1732838399@uac.org.au
SUMMARY:Steadfast Town Hall Meeting (Sydney)
DESCRIPTION:
URL:https://uac.org.au/calendar/event/steadfast-town-hall-meeting-sydney-2/
ATTACH;FMTTYPE=image/png:https://uac.org.au/calendar/wp-content/uploads/Steadfast-Logo.png
END:VEVENT
BEGIN:VEVENT
DTSTART;VALUE=DATE:20241121
DTEND;VALUE=DATE:20241122
DTSTAMP:20260422T065044
CREATED:20240130T000959Z
LAST-MODIFIED:20240130T000959Z
UID:702-1732147200-1732233599@uac.org.au
SUMMARY:Steadfast Town Hall Meeting (Melbourne)
DESCRIPTION:
URL:https://uac.org.au/calendar/event/steadfast-town-hall-meeting-melbourne-2/
ATTACH;FMTTYPE=image/png:https://uac.org.au/calendar/wp-content/uploads/Steadfast-Logo.png
END:VEVENT
BEGIN:VEVENT
DTSTART;VALUE=DATE:20241119
DTEND;VALUE=DATE:20241120
DTSTAMP:20260422T065044
CREATED:20240130T001356Z
LAST-MODIFIED:20240130T001421Z
UID:708-1731974400-1732060799@uac.org.au
SUMMARY:Steadfast Town Hall Meeting (Brisbane)
DESCRIPTION:
URL:https://uac.org.au/calendar/event/steadfast-town-hall-meeting-brisbane-2/
ATTACH;FMTTYPE=image/png:https://uac.org.au/calendar/wp-content/uploads/Steadfast-Logo.png
END:VEVENT
BEGIN:VEVENT
DTSTART;VALUE=DATE:20241114
DTEND;VALUE=DATE:20241115
DTSTAMP:20260422T065044
CREATED:20240130T001255Z
LAST-MODIFIED:20240130T001255Z
UID:706-1731542400-1731628799@uac.org.au
SUMMARY:Steadfast Town Hall Meeting (Adelaide)
DESCRIPTION:
URL:https://uac.org.au/calendar/event/steadfast-town-hall-meeting-adelaide-2/
ATTACH;FMTTYPE=image/png:https://uac.org.au/calendar/wp-content/uploads/Steadfast-Logo.png
END:VEVENT
BEGIN:VEVENT
DTSTART;VALUE=DATE:20241112
DTEND;VALUE=DATE:20241113
DTSTAMP:20260422T065044
CREATED:20240130T001123Z
LAST-MODIFIED:20240130T001123Z
UID:704-1731369600-1731455999@uac.org.au
SUMMARY:Steadfast Town Hall Meeting (Perth)
DESCRIPTION:
URL:https://uac.org.au/calendar/event/steadfast-town-hall-meeting-perth-2/
ATTACH;FMTTYPE=image/png:https://uac.org.au/calendar/wp-content/uploads/Steadfast-Logo.png
END:VEVENT
BEGIN:VEVENT
DTSTART;VALUE=DATE:20241107
DTEND;VALUE=DATE:20241108
DTSTAMP:20260422T065044
CREATED:20240130T000852Z
LAST-MODIFIED:20240130T000852Z
UID:700-1730937600-1731023999@uac.org.au
SUMMARY:Steadfast Town Hall Meeting (Hobart)
DESCRIPTION:
URL:https://uac.org.au/calendar/event/steadfast-town-hall-meeting-hobart-2/
ATTACH;FMTTYPE=image/png:https://uac.org.au/calendar/wp-content/uploads/Steadfast-Logo.png
END:VEVENT
BEGIN:VEVENT
DTSTART;TZID=Australia/Brisbane:20241101T090000
DTEND;TZID=Australia/Brisbane:20241101T140000
DTSTAMP:20260422T065044
CREATED:20240130T004929Z
LAST-MODIFIED:20240130T004929Z
UID:740-1730451600-1730469600@uac.org.au
SUMMARY:UAC 2024 Perth Underwriting Expo
DESCRIPTION:
URL:https://uac.org.au/calendar/event/uac-2024-perth-underwriting-expo/
LOCATION:Perth Convention & Exhibition Centre
ATTACH;FMTTYPE=image/png:https://uac.org.au/calendar/wp-content/uploads/logo.png
END:VEVENT
BEGIN:VEVENT
DTSTART;VALUE=DATE:20241027
DTEND;VALUE=DATE:20241101
DTSTAMP:20260422T065044
CREATED:20240206T043844Z
LAST-MODIFIED:20240206T043844Z
UID:863-1729987200-1730419199@uac.org.au
SUMMARY:Insurance Advisernet
DESCRIPTION:
URL:https://uac.org.au/calendar/event/insurance-advisernet/
END:VEVENT
BEGIN:VEVENT
DTSTART;VALUE=DATE:20241020
DTEND;VALUE=DATE:20241023
DTSTAMP:20260422T065044
CREATED:20240206T043411Z
LAST-MODIFIED:20240206T043411Z
UID:858-1729382400-1729641599@uac.org.au
SUMMARY:NIBA Convention
DESCRIPTION:
URL:https://uac.org.au/calendar/event/niba-convention-2/
LOCATION:Adelaide
ATTACH;FMTTYPE=image/jpeg:https://uac.org.au/calendar/wp-content/uploads/niba-au.jpg
END:VEVENT
BEGIN:VEVENT
DTSTART;TZID=Australia/Brisbane:20241017T130000
DTEND;TZID=Australia/Brisbane:20241017T150000
DTSTAMP:20260422T065044
CREATED:20240201T022927Z
LAST-MODIFIED:20240201T022927Z
UID:840-1729170000-1729177200@uac.org.au
SUMMARY:WEBINAR: Leaky strata buildings
DESCRIPTION:Hamish McDonald Nye\, Blair McNamara and Katy Gale \nThere are a massive amount of leaky balconies and waterproofing issues across the eastern sea board and many of these are building defects and therefore not covered by insurance. During this webinar\, we will discuss plans of subdivision\, water act claims and how to understand strata insurance. To present this webinar\, we welcome special guest presenters\, Blair McNamara and Katy Gale from Brockhill & Usherwood Lawyers.
URL:https://uac.org.au/calendar/event/webinar-leaky-strata-buildings/
ATTACH;FMTTYPE=image/webp:https://uac.org.au/calendar/wp-content/uploads/prorisk_blue.webp
END:VEVENT
BEGIN:VEVENT
DTSTART;TZID=Australia/Brisbane:20241016T090000
DTEND;TZID=Australia/Brisbane:20241016T140000
DTSTAMP:20260422T065044
CREATED:20240129T043317Z
LAST-MODIFIED:20240130T003819Z
UID:681-1729069200-1729087200@uac.org.au
SUMMARY:UAC 2024 Launceston Market Exchange
DESCRIPTION:
URL:https://uac.org.au/calendar/event/uac-2024-launceston-market-exchange/
LOCATION:Country Club Tasmania
ATTACH;FMTTYPE=image/png:https://uac.org.au/calendar/wp-content/uploads/logo.png
END:VEVENT
BEGIN:VEVENT
DTSTART;TZID=Australia/Brisbane:20241010T080000
DTEND;TZID=Australia/Brisbane:20241014T170000
DTSTAMP:20260422T065044
CREATED:20240206T043939Z
LAST-MODIFIED:20240206T043939Z
UID:865-1728547200-1728925200@uac.org.au
SUMMARY:InsuranceHouse Conference
DESCRIPTION:
URL:https://uac.org.au/calendar/event/insurancehouse-conference/
LOCATION:Queenstown
END:VEVENT
BEGIN:VEVENT
DTSTART;VALUE=DATE:20240919
DTEND;VALUE=DATE:20240920
DTSTAMP:20260422T065044
CREATED:20240130T000655Z
LAST-MODIFIED:20240130T000655Z
UID:698-1726704000-1726790399@uac.org.au
SUMMARY:Steadfast Town Hall Meeting (Sydney)
DESCRIPTION:
URL:https://uac.org.au/calendar/event/steadfast-town-hall-meeting-sydney/
ATTACH;FMTTYPE=image/png:https://uac.org.au/calendar/wp-content/uploads/Steadfast-Logo.png
END:VEVENT
END:VCALENDAR