BEGIN:VCALENDAR
VERSION:2.0
PRODID:-//UAC - Insurance Calendar - ECPv6.15.11//NONSGML v1.0//EN
CALSCALE:GREGORIAN
METHOD:PUBLISH
X-WR-CALNAME:UAC - Insurance Calendar
X-ORIGINAL-URL:https://uac.org.au/calendar
X-WR-CALDESC:Events for UAC - Insurance Calendar
REFRESH-INTERVAL;VALUE=DURATION:PT1H
X-Robots-Tag:noindex
X-PUBLISHED-TTL:PT1H
BEGIN:VTIMEZONE
TZID:Australia/Brisbane
BEGIN:STANDARD
TZOFFSETFROM:+1000
TZOFFSETTO:+1000
TZNAME:AEST
DTSTART:20200101T000000
END:STANDARD
END:VTIMEZONE
BEGIN:VTIMEZONE
TZID:Pacific/Auckland
BEGIN:STANDARD
TZOFFSETFROM:+1300
TZOFFSETTO:+1200
TZNAME:NZST
DTSTART:20210403T140000
END:STANDARD
BEGIN:DAYLIGHT
TZOFFSETFROM:+1200
TZOFFSETTO:+1300
TZNAME:NZDT
DTSTART:20210925T140000
END:DAYLIGHT
BEGIN:STANDARD
TZOFFSETFROM:+1300
TZOFFSETTO:+1200
TZNAME:NZST
DTSTART:20220402T140000
END:STANDARD
BEGIN:DAYLIGHT
TZOFFSETFROM:+1200
TZOFFSETTO:+1300
TZNAME:NZDT
DTSTART:20220924T140000
END:DAYLIGHT
BEGIN:STANDARD
TZOFFSETFROM:+1300
TZOFFSETTO:+1200
TZNAME:NZST
DTSTART:20230401T140000
END:STANDARD
BEGIN:DAYLIGHT
TZOFFSETFROM:+1200
TZOFFSETTO:+1300
TZNAME:NZDT
DTSTART:20230923T140000
END:DAYLIGHT
END:VTIMEZONE
BEGIN:VTIMEZONE
TZID:Australia/Sydney
BEGIN:STANDARD
TZOFFSETFROM:+1100
TZOFFSETTO:+1000
TZNAME:AEST
DTSTART:20210403T160000
END:STANDARD
BEGIN:DAYLIGHT
TZOFFSETFROM:+1000
TZOFFSETTO:+1100
TZNAME:AEDT
DTSTART:20211002T160000
END:DAYLIGHT
BEGIN:STANDARD
TZOFFSETFROM:+1100
TZOFFSETTO:+1000
TZNAME:AEST
DTSTART:20220402T160000
END:STANDARD
BEGIN:DAYLIGHT
TZOFFSETFROM:+1000
TZOFFSETTO:+1100
TZNAME:AEDT
DTSTART:20221001T160000
END:DAYLIGHT
BEGIN:STANDARD
TZOFFSETFROM:+1100
TZOFFSETTO:+1000
TZNAME:AEST
DTSTART:20230401T160000
END:STANDARD
BEGIN:DAYLIGHT
TZOFFSETFROM:+1000
TZOFFSETTO:+1100
TZNAME:AEDT
DTSTART:20230930T160000
END:DAYLIGHT
END:VTIMEZONE
BEGIN:VEVENT
DTSTART;TZID=Australia/Brisbane:20220309T080000
DTEND;TZID=Australia/Brisbane:20220311T170000
DTSTAMP:20260423T081218
CREATED:20211213T004756Z
LAST-MODIFIED:20220125T025827Z
UID:385-1646812800-1647018000@uac.org.au
SUMMARY:Austbrokers Conference - Kingscliff
DESCRIPTION:
URL:https://uac.org.au/calendar/event/austbrokers-conference/
ATTACH;FMTTYPE=image/png:https://uac.org.au/calendar/wp-content/uploads/cqib-logo.png
END:VEVENT
BEGIN:VEVENT
DTSTART;TZID=Pacific/Auckland:20220304T080000
DTEND;TZID=Pacific/Auckland:20220304T170000
DTSTAMP:20260423T081218
CREATED:20211221T020515Z
LAST-MODIFIED:20211221T020515Z
UID:420-1646380800-1646413200@uac.org.au
SUMMARY:New Zealand Business Breakfast - Auckland and Online
DESCRIPTION:
URL:https://uac.org.au/calendar/event/new-zealand-business-breakfast-auckland-and-online/
ATTACH;FMTTYPE=image/jpeg:https://uac.org.au/calendar/wp-content/uploads/ANZIIF.jpeg
END:VEVENT
BEGIN:VEVENT
DTSTART;TZID=Australia/Brisbane:20220302T080000
DTEND;TZID=Australia/Brisbane:20220302T170000
DTSTAMP:20260423T081218
CREATED:20211213T004720Z
LAST-MODIFIED:20211213T004720Z
UID:383-1646208000-1646240400@uac.org.au
SUMMARY:Townsville Training  - Topic 1
DESCRIPTION:
URL:https://uac.org.au/calendar/event/townsville-training-topic-1/
ATTACH;FMTTYPE=image/png:https://uac.org.au/calendar/wp-content/uploads/cqib-logo.png
END:VEVENT
BEGIN:VEVENT
DTSTART;TZID=Australia/Brisbane:20220301T080000
DTEND;TZID=Australia/Brisbane:20220301T170000
DTSTAMP:20260423T081218
CREATED:20211213T004035Z
LAST-MODIFIED:20220125T025615Z
UID:381-1646121600-1646154000@uac.org.au
SUMMARY:Cairns Training - Topic 1
DESCRIPTION:
URL:https://uac.org.au/calendar/event/cairns-training-topic-1/
ATTACH;FMTTYPE=image/png:https://uac.org.au/calendar/wp-content/uploads/cqib-logo.png
END:VEVENT
BEGIN:VEVENT
DTSTART;TZID=Australia/Brisbane:20220223T080000
DTEND;TZID=Australia/Brisbane:20220223T170000
DTSTAMP:20260423T081218
CREATED:20211213T001933Z
LAST-MODIFIED:20220125T020225Z
UID:366-1645603200-1645635600@uac.org.au
SUMMARY:Brisbane Training - Topic 1
DESCRIPTION:
URL:https://uac.org.au/calendar/event/brisbane-training-topic-1/
ATTACH;FMTTYPE=image/png:https://uac.org.au/calendar/wp-content/uploads/cqib-logo.png
END:VEVENT
BEGIN:VEVENT
DTSTART;TZID=Australia/Brisbane:20220222T080000
DTEND;TZID=Australia/Brisbane:20220222T170000
DTSTAMP:20260423T081218
CREATED:20211213T000557Z
LAST-MODIFIED:20220125T020139Z
UID:364-1645516800-1645549200@uac.org.au
SUMMARY:Toowoomba Training - Topic 1
DESCRIPTION:
URL:https://uac.org.au/calendar/event/toowoomba-training-topic-1/
ATTACH;FMTTYPE=image/png:https://uac.org.au/calendar/wp-content/uploads/cqib-logo.png
END:VEVENT
BEGIN:VEVENT
DTSTART;TZID=Australia/Brisbane:20220218T080000
DTEND;TZID=Australia/Brisbane:20220218T170000
DTSTAMP:20260423T081218
CREATED:20220202T061002Z
LAST-MODIFIED:20220202T061002Z
UID:449-1645171200-1645203600@uac.org.au
SUMMARY:UAC Sydney Underwriting Expo
DESCRIPTION:
URL:https://uac.org.au/calendar/event/uac-sydney-underwriting-expo/
LOCATION:Hyatt Regency Sydney\, 161 Sussex Street\, Sydney\, 2000\, Australia
ATTACH;FMTTYPE=image/png:https://uac.org.au/calendar/wp-content/uploads/logo.png
END:VEVENT
BEGIN:VEVENT
DTSTART;TZID=Australia/Brisbane:20220217T080000
DTEND;TZID=Australia/Brisbane:20220217T170000
DTSTAMP:20260423T081218
CREATED:20211213T002432Z
LAST-MODIFIED:20211213T002441Z
UID:374-1645084800-1645117200@uac.org.au
SUMMARY:CQIB Breakfast Meeting - Brisbane
DESCRIPTION:
URL:https://uac.org.au/calendar/event/cquib-breakfast-meeting-brisbane/
ATTACH;FMTTYPE=image/png:https://uac.org.au/calendar/wp-content/uploads/cqib-logo.png
END:VEVENT
BEGIN:VEVENT
DTSTART;TZID=Australia/Sydney:20220215T120000
DTEND;TZID=Australia/Sydney:20220215T190000
DTSTAMP:20260423T081218
CREATED:20211221T040922Z
LAST-MODIFIED:20211221T041326Z
UID:431-1644926400-1644951600@uac.org.au
SUMMARY:The Australian InsurtechLIVE Half-Day Conference
DESCRIPTION:This is the first-ever InsurtechLIVE\, Insurtech Australia’s own half-day in-person event. We will showcase our members\, partners\, and their stories. You will also hear from insurtech experts who will reflect on Australia’s insurtech and innovation ecosystem\, explore issues and opportunities\, and discuss what the future holds for technology and innovation in insurance.  It will be an unmissable event for our members\, partners\, and supporters of the insurtech community to network and connect in person!
URL:https://uac.org.au/calendar/event/the-australian-insurtechlive-half-day-conference/
LOCATION:Museum of Contemporary Art Australia (MCA)\, 140 George St\, The Rocks\, NSW\, 2000\, Australia
ATTACH;FMTTYPE=image/png:https://uac.org.au/calendar/wp-content/uploads/1605745467687-1.png
END:VEVENT
BEGIN:VEVENT
DTSTART;TZID=Australia/Brisbane:20220214T080000
DTEND;TZID=Australia/Brisbane:20220214T170000
DTSTAMP:20260423T081218
CREATED:20211212T235749Z
LAST-MODIFIED:20220125T015845Z
UID:362-1644825600-1644858000@uac.org.au
SUMMARY:Gold Coast Training - Topic 1
DESCRIPTION:
URL:https://uac.org.au/calendar/event/gold-coast-training-topic-1/
ATTACH;FMTTYPE=image/png:https://uac.org.au/calendar/wp-content/uploads/cqib-logo.png
END:VEVENT
BEGIN:VEVENT
DTSTART;TZID=Australia/Brisbane:20220210T080000
DTEND;TZID=Australia/Brisbane:20220210T170000
DTSTAMP:20260423T081218
CREATED:20211213T002300Z
LAST-MODIFIED:20220125T015753Z
UID:370-1644480000-1644512400@uac.org.au
SUMMARY:Mackay training - Topic 1
DESCRIPTION:
URL:https://uac.org.au/calendar/event/mackay-training-topic-1/
ATTACH;FMTTYPE=image/png:https://uac.org.au/calendar/wp-content/uploads/cqib-logo.png
END:VEVENT
BEGIN:VEVENT
DTSTART;TZID=Australia/Brisbane:20220209T080000
DTEND;TZID=Australia/Brisbane:20220209T170000
DTSTAMP:20260423T081218
CREATED:20211213T002349Z
LAST-MODIFIED:20211213T002349Z
UID:372-1644393600-1644426000@uac.org.au
SUMMARY:Rockhampton Training - Topic 1
DESCRIPTION:
URL:https://uac.org.au/calendar/event/rockhampton-training-topic-1-2/
ATTACH;FMTTYPE=image/png:https://uac.org.au/calendar/wp-content/uploads/cqib-logo.png
END:VEVENT
BEGIN:VEVENT
DTSTART;TZID=Australia/Brisbane:20220208T080000
DTEND;TZID=Australia/Brisbane:20220208T170000
DTSTAMP:20260423T081218
CREATED:20211213T002535Z
LAST-MODIFIED:20220125T015539Z
UID:377-1644307200-1644339600@uac.org.au
SUMMARY:Bundaberg Training - Topic 1
DESCRIPTION:
URL:https://uac.org.au/calendar/event/bundaberg-training-topic-1/
ATTACH;FMTTYPE=image/png:https://uac.org.au/calendar/wp-content/uploads/cqib-logo.png
END:VEVENT
BEGIN:VEVENT
DTSTART;TZID=Australia/Brisbane:20220207T080000
DTEND;TZID=Australia/Brisbane:20220207T170000
DTSTAMP:20260423T081218
CREATED:20211213T002139Z
LAST-MODIFIED:20211213T002139Z
UID:368-1644220800-1644253200@uac.org.au
SUMMARY:Sunshine Coast Training - Topic 1
DESCRIPTION:
URL:https://uac.org.au/calendar/event/sunshine-coast-training-topic-1-2/
ATTACH;FMTTYPE=image/png:https://uac.org.au/calendar/wp-content/uploads/cqib-logo.png
END:VEVENT
BEGIN:VEVENT
DTSTART;TZID=Australia/Brisbane:20220202T100000
DTEND;TZID=Australia/Brisbane:20220202T133000
DTSTAMP:20260423T081218
CREATED:20220202T061456Z
LAST-MODIFIED:20220402T034448Z
UID:455-1643796000-1643808600@uac.org.au
SUMMARY:UAC Wagga Wagga Underwriting Expo
DESCRIPTION:
URL:https://uac.org.au/calendar/event/uac-wagga-wagga-underwriting-expo/
LOCATION:Wagga RSL\, Kincaid St & Dobbs St\, Wagga Wagga\, NSW\, 2650\, Australia
ATTACH;FMTTYPE=image/png:https://uac.org.au/calendar/wp-content/uploads/logo.png
END:VEVENT
BEGIN:VEVENT
DTSTART;TZID=Australia/Brisbane:20220120T080000
DTEND;TZID=Australia/Brisbane:20220120T170000
DTSTAMP:20260423T081218
CREATED:20211212T233158Z
LAST-MODIFIED:20211212T233158Z
UID:360-1642665600-1642698000@uac.org.au
SUMMARY:Breakfast Meeting - Brisbane
DESCRIPTION:
URL:https://uac.org.au/calendar/event/breakfast-meeting-brisbane/
ATTACH;FMTTYPE=image/png:https://uac.org.au/calendar/wp-content/uploads/cqib-logo.png
END:VEVENT
BEGIN:VEVENT
DTSTART;TZID=Australia/Brisbane:20211118T080000
DTEND;TZID=Australia/Brisbane:20211118T090000
DTSTAMP:20260423T081218
CREATED:20210405T053837Z
LAST-MODIFIED:20210405T053837Z
UID:340-1637222400-1637226000@uac.org.au
SUMMARY:CQIB Breakfast Meeting - Brisbane
DESCRIPTION:
URL:https://uac.org.au/calendar/event/cqib-breakfast-meeting-brisbane-3/
ATTACH;FMTTYPE=image/png:https://uac.org.au/calendar/wp-content/uploads/cqib-logo.png
END:VEVENT
BEGIN:VEVENT
DTSTART;TZID=Australia/Brisbane:20211104T113000
DTEND;TZID=Australia/Brisbane:20211104T123000
DTSTAMP:20260423T081218
CREATED:20211022T050220Z
LAST-MODIFIED:20211022T050220Z
UID:351-1636025400-1636029000@uac.org.au
SUMMARY:Commercial Lines
DESCRIPTION:In this one hour webinar\, our Commercial Lines experts Pravesh Ponna\, Alina Pettifer and Estelle Pearson will provide an overview of the key market trends and take a deep dive into commercial classes including Financial Lines\, Liability\, Commercial Motor\, Business Packages and Property.
URL:https://uac.org.au/calendar/event/commercial-lines/
ATTACH;FMTTYPE=image/png:https://uac.org.au/calendar/wp-content/uploads/infinity_logo.png
END:VEVENT
BEGIN:VEVENT
DTSTART;TZID=Australia/Brisbane:20211028T113000
DTEND;TZID=Australia/Brisbane:20211028T123000
DTSTAMP:20260423T081218
CREATED:20211022T045605Z
LAST-MODIFIED:20211022T045939Z
UID:343-1635420600-1635424200@uac.org.au
SUMMARY:Home and Motor
DESCRIPTION:In this one hour webinar\, industry experts Marcello Negro and Lucy Vowels will provide an overview of Householders and Private Motor key market trends\, present forecasts for the future and provide an opportunity for Q&A.
URL:https://uac.org.au/calendar/event/home-and-motor/
ATTACH;FMTTYPE=image/png:https://uac.org.au/calendar/wp-content/uploads/infinity_logo.png
END:VEVENT
BEGIN:VEVENT
DTSTART;TZID=Australia/Brisbane:20210916T080000
DTEND;TZID=Australia/Brisbane:20210916T100000
DTSTAMP:20260423T081218
CREATED:20210405T053741Z
LAST-MODIFIED:20210405T053741Z
UID:338-1631779200-1631786400@uac.org.au
SUMMARY:CQIB AGM & Breakfast Meeting
DESCRIPTION:
URL:https://uac.org.au/calendar/event/cqib-agm-breakfast-meeting/
ATTACH;FMTTYPE=image/png:https://uac.org.au/calendar/wp-content/uploads/cqib-logo.png
END:VEVENT
BEGIN:VEVENT
DTSTART;TZID=Australia/Brisbane:20210819T080000
DTEND;TZID=Australia/Brisbane:20210819T090000
DTSTAMP:20260423T081218
CREATED:20210405T053632Z
LAST-MODIFIED:20210405T053632Z
UID:336-1629360000-1629363600@uac.org.au
SUMMARY:CQIB Breakfast Meeting
DESCRIPTION:
URL:https://uac.org.au/calendar/event/cqib-breakfast-meeting-2/
ATTACH;FMTTYPE=image/png:https://uac.org.au/calendar/wp-content/uploads/cqib-logo.png
END:VEVENT
BEGIN:VEVENT
DTSTART;TZID=Australia/Brisbane:20210811T080000
DTEND;TZID=Australia/Brisbane:20210811T170000
DTSTAMP:20260423T081218
CREATED:20200512T060726Z
LAST-MODIFIED:20201123T133809Z
UID:145-1628668800-1628701200@uac.org.au
SUMMARY:Northwest Sydney Underwriting Expo
DESCRIPTION:More information to come.
URL:https://uac.org.au/calendar/event/northwest-sydney-underwriting-expo/
LOCATION:Castle Hill RSL Club\, 77 Castle St\, Castle Hill\, NSW\, 2154\, Australia
ATTACH;FMTTYPE=image/jpeg:https://uac.org.au/calendar/wp-content/uploads/UAC_melbourne.jpg
END:VEVENT
BEGIN:VEVENT
DTSTART;TZID=Australia/Brisbane:20210715T080000
DTEND;TZID=Australia/Brisbane:20210715T210000
DTSTAMP:20260423T081218
CREATED:20210405T053541Z
LAST-MODIFIED:20210405T053541Z
UID:334-1626336000-1626382800@uac.org.au
SUMMARY:CQIB Breakfast Meeting
DESCRIPTION:
URL:https://uac.org.au/calendar/event/cqib-breakfast-meeting/
ATTACH;FMTTYPE=image/png:https://uac.org.au/calendar/wp-content/uploads/cqib-logo.png
END:VEVENT
BEGIN:VEVENT
DTSTART;TZID=Australia/Brisbane:20210714T080000
DTEND;TZID=Australia/Brisbane:20210714T170000
DTSTAMP:20260423T081218
CREATED:20200512T060557Z
LAST-MODIFIED:20201123T133830Z
UID:141-1626249600-1626282000@uac.org.au
SUMMARY:Brisbane Underwriting Expo
DESCRIPTION:More information to come.
URL:https://uac.org.au/calendar/event/brisbane-underwriting-expo/
LOCATION:Royal International Convention Centre\, 600 Gregory Terrace\, Bowen Hills\, QLD\, 4006\, Australia
ATTACH;FMTTYPE=image/jpeg:https://uac.org.au/calendar/wp-content/uploads/UAC_melbourne.jpg
END:VEVENT
BEGIN:VEVENT
DTSTART;TZID=Australia/Brisbane:20210521T080000
DTEND;TZID=Australia/Brisbane:20210521T170000
DTSTAMP:20260423T081218
CREATED:20200512T052849Z
LAST-MODIFIED:20201123T133848Z
UID:135-1621584000-1621616400@uac.org.au
SUMMARY:Melbourne Underwriting Expo
DESCRIPTION:More information to come.
URL:https://uac.org.au/calendar/event/melbourne-underwriting-expo/
LOCATION:Crown Hotel\, 8 Whiteman St\, Palladium rooms\, Melbourne\, VIC\, 3006\, Australia
ATTACH;FMTTYPE=image/jpeg:https://uac.org.au/calendar/wp-content/uploads/UAC_melbourne.jpg
END:VEVENT
BEGIN:VEVENT
DTSTART;VALUE=DATE:20210224
DTEND;VALUE=DATE:20210225
DTSTAMP:20260423T081218
CREATED:20201124T031926Z
LAST-MODIFIED:20201124T031926Z
UID:296-1614124800-1614211199@uac.org.au
SUMMARY:CQIB Townsville Training – Topic 1
DESCRIPTION:
URL:https://uac.org.au/calendar/event/cqib-townsville-training-topic-1/
END:VEVENT
BEGIN:VEVENT
DTSTART;VALUE=DATE:20210223
DTEND;VALUE=DATE:20210224
DTSTAMP:20260423T081218
CREATED:20201124T031857Z
LAST-MODIFIED:20201124T031857Z
UID:294-1614038400-1614124799@uac.org.au
SUMMARY:CQIB - Cairns Training - Topic 1
DESCRIPTION:
URL:https://uac.org.au/calendar/event/cqib-cairns-training-topic-1/
END:VEVENT
BEGIN:VEVENT
DTSTART;TZID=Australia/Brisbane:20210218T073000
DTEND;TZID=Australia/Brisbane:20210218T210000
DTSTAMP:20260423T081218
CREATED:20201124T031824Z
LAST-MODIFIED:20201124T031824Z
UID:292-1613633400-1613682000@uac.org.au
SUMMARY:CQIB Breakfast Meeting – Brisbane
DESCRIPTION:
URL:https://uac.org.au/calendar/event/cqib-breakfast-meeting-brisbane-2/
END:VEVENT
BEGIN:VEVENT
DTSTART;VALUE=DATE:20210216
DTEND;VALUE=DATE:20210217
DTSTAMP:20260423T081218
CREATED:20201124T031707Z
LAST-MODIFIED:20201124T031707Z
UID:288-1613433600-1613519999@uac.org.au
SUMMARY:Sunshine Coast Training – Topic 1
DESCRIPTION:
URL:https://uac.org.au/calendar/event/sunshine-coast-training-topic-1/
END:VEVENT
BEGIN:VEVENT
DTSTART;TZID=Australia/Brisbane:20210209T080000
DTEND;TZID=Australia/Brisbane:20210209T170000
DTSTAMP:20260423T081218
CREATED:20210209T005237Z
LAST-MODIFIED:20210209T005237Z
UID:330-1612857600-1612890000@uac.org.au
SUMMARY:Webinar: Construction law: the year in review and year ahead
DESCRIPTION:Allens invites you to a webinar in which our speakers will look at key developments in construction law over the past year\, together with a discussion on what we might expect in 2021. \nWe hope you can join our experts for this webinar. \nRegister Here \nDate Tuesday\, 16 February 2021\nTime 1pm – 2pm\nAustralian Eastern Daylight Time (UTC +11)\nRSVP by Friday\, 12 February 2021\nContact\nAmy Ghataora\n+61 2 9230 4535\nAmy.Ghataora@allens.com.au
URL:https://uac.org.au/calendar/event/webinar-construction-law-the-year-in-review-and-year-ahead/
CATEGORIES:Webinar
ATTACH;FMTTYPE=image/jpeg:https://uac.org.au/calendar/wp-content/uploads/unnamed.jpg
END:VEVENT
END:VCALENDAR