BEGIN:VCALENDAR
VERSION:2.0
PRODID:-//UAC - Insurance Calendar - ECPv6.15.11//NONSGML v1.0//EN
CALSCALE:GREGORIAN
METHOD:PUBLISH
X-WR-CALNAME:UAC - Insurance Calendar
X-ORIGINAL-URL:https://uac.org.au/calendar
X-WR-CALDESC:Events for UAC - Insurance Calendar
REFRESH-INTERVAL;VALUE=DURATION:PT1H
X-Robots-Tag:noindex
X-PUBLISHED-TTL:PT1H
BEGIN:VTIMEZONE
TZID:Australia/Brisbane
BEGIN:STANDARD
TZOFFSETFROM:+1000
TZOFFSETTO:+1000
TZNAME:AEST
DTSTART:20210101T000000
END:STANDARD
END:VTIMEZONE
BEGIN:VTIMEZONE
TZID:Australia/Adelaide
BEGIN:STANDARD
TZOFFSETFROM:+1030
TZOFFSETTO:+0930
TZNAME:ACST
DTSTART:20210403T163000
END:STANDARD
BEGIN:DAYLIGHT
TZOFFSETFROM:+0930
TZOFFSETTO:+1030
TZNAME:ACDT
DTSTART:20211002T163000
END:DAYLIGHT
BEGIN:STANDARD
TZOFFSETFROM:+1030
TZOFFSETTO:+0930
TZNAME:ACST
DTSTART:20220402T163000
END:STANDARD
BEGIN:DAYLIGHT
TZOFFSETFROM:+0930
TZOFFSETTO:+1030
TZNAME:ACDT
DTSTART:20221001T163000
END:DAYLIGHT
BEGIN:STANDARD
TZOFFSETFROM:+1030
TZOFFSETTO:+0930
TZNAME:ACST
DTSTART:20230401T163000
END:STANDARD
BEGIN:DAYLIGHT
TZOFFSETFROM:+0930
TZOFFSETTO:+1030
TZNAME:ACDT
DTSTART:20230930T163000
END:DAYLIGHT
END:VTIMEZONE
BEGIN:VEVENT
DTSTART;TZID=Australia/Brisbane:20220818T080000
DTEND;TZID=Australia/Brisbane:20220818T170000
DTSTAMP:20260423T035926
CREATED:20220530T051317Z
LAST-MODIFIED:20220530T053902Z
UID:520-1660809600-1660842000@uac.org.au
SUMMARY:CQIB Breakfast Meeting
DESCRIPTION:
URL:https://uac.org.au/calendar/event/cqib-breakfast-meeting-4/
ATTACH;FMTTYPE=image/png:https://uac.org.au/calendar/wp-content/uploads/cqib-logo.png
END:VEVENT
BEGIN:VEVENT
DTSTART;TZID=Australia/Brisbane:20220817T080000
DTEND;TZID=Australia/Brisbane:20220817T170000
DTSTAMP:20260423T035926
CREATED:20220530T050734Z
LAST-MODIFIED:20220530T050734Z
UID:511-1660723200-1660755600@uac.org.au
SUMMARY:Rockhampton Training - Topic 3
DESCRIPTION:
URL:https://uac.org.au/calendar/event/rockhampton-training-topic-3/
END:VEVENT
BEGIN:VEVENT
DTSTART;TZID=Australia/Brisbane:20220816T080000
DTEND;TZID=Australia/Brisbane:20220816T170000
DTSTAMP:20260423T035926
CREATED:20220530T050704Z
LAST-MODIFIED:20220530T050704Z
UID:509-1660636800-1660669200@uac.org.au
SUMMARY:Mackay Training - Topic 3
DESCRIPTION:
URL:https://uac.org.au/calendar/event/mackay-training-topic-3/
END:VEVENT
BEGIN:VEVENT
DTSTART;TZID=Australia/Brisbane:20220811T080000
DTEND;TZID=Australia/Brisbane:20220811T170000
DTSTAMP:20260423T035926
CREATED:20220530T050635Z
LAST-MODIFIED:20220530T050635Z
UID:507-1660204800-1660237200@uac.org.au
SUMMARY:Sunshine Coast Training - Topic 3
DESCRIPTION:
URL:https://uac.org.au/calendar/event/sunshine-coast-training-topic-3/
END:VEVENT
BEGIN:VEVENT
DTSTART;TZID=Australia/Brisbane:20220810T080000
DTEND;TZID=Australia/Brisbane:20220810T170000
DTSTAMP:20260423T035926
CREATED:20220530T051008Z
LAST-MODIFIED:20220530T051008Z
UID:517-1660118400-1660150800@uac.org.au
SUMMARY:Royal Queensland Show Holiday (Brisbane)
DESCRIPTION:
URL:https://uac.org.au/calendar/event/royal-queensland-show-holiday-brisbane/
END:VEVENT
BEGIN:VEVENT
DTSTART;TZID=Australia/Brisbane:20220810T080000
DTEND;TZID=Australia/Brisbane:20220810T170000
DTSTAMP:20260423T035926
CREATED:20220202T062017Z
LAST-MODIFIED:20220202T062059Z
UID:465-1660118400-1660150800@uac.org.au
SUMMARY:UAC Norwest Sydney Underwriting Expo
DESCRIPTION:
URL:https://uac.org.au/calendar/event/uac-norwest-sydney-underwriting-expo/
LOCATION:CommBank Stadium\, Parramatta\, 11-13 O'Connell St\, Parramatta\, NSW\, 2150\, Australia
ATTACH;FMTTYPE=image/png:https://uac.org.au/calendar/wp-content/uploads/UAC-NIBA.png
END:VEVENT
BEGIN:VEVENT
DTSTART;TZID=Australia/Brisbane:20220809T080000
DTEND;TZID=Australia/Brisbane:20220809T170000
DTSTAMP:20260423T035926
CREATED:20220530T050526Z
LAST-MODIFIED:20220530T050554Z
UID:504-1660032000-1660064400@uac.org.au
SUMMARY:Bundaberg Training - Topic 3
DESCRIPTION:
URL:https://uac.org.au/calendar/event/brisbane-training-topic-3/
END:VEVENT
BEGIN:VEVENT
DTSTART;TZID=Australia/Brisbane:20220803T080000
DTEND;TZID=Australia/Brisbane:20220803T170000
DTSTAMP:20260423T035926
CREATED:20220530T044115Z
LAST-MODIFIED:20220530T045720Z
UID:502-1659513600-1659546000@uac.org.au
SUMMARY:Gold Coast Training - Topic 3
DESCRIPTION:
URL:https://uac.org.au/calendar/event/gold-coast-training-topic-3/
END:VEVENT
BEGIN:VEVENT
DTSTART;TZID=Australia/Brisbane:20220802T080000
DTEND;TZID=Australia/Brisbane:20220802T170000
DTSTAMP:20260423T035926
CREATED:20220530T044025Z
LAST-MODIFIED:20220530T044025Z
UID:500-1659427200-1659459600@uac.org.au
SUMMARY:Toowoomba Training - Topic 3
DESCRIPTION:
URL:https://uac.org.au/calendar/event/toowoomba-training-topic-3/
END:VEVENT
BEGIN:VEVENT
DTSTART;TZID=Australia/Brisbane:20220721T080000
DTEND;TZID=Australia/Brisbane:20220721T170000
DTSTAMP:20260423T035926
CREATED:20220530T043932Z
LAST-MODIFIED:20220530T043932Z
UID:498-1658390400-1658422800@uac.org.au
SUMMARY:CQIB Breakfast Meeting
DESCRIPTION:
URL:https://uac.org.au/calendar/event/cqib-breakfast-meeting-3/
ATTACH;FMTTYPE=image/png:https://uac.org.au/calendar/wp-content/uploads/cqib-logo.png
END:VEVENT
BEGIN:VEVENT
DTSTART;TZID=Australia/Brisbane:20220713T080000
DTEND;TZID=Australia/Brisbane:20220713T170000
DTSTAMP:20260423T035926
CREATED:20220202T061829Z
LAST-MODIFIED:20220202T061829Z
UID:463-1657699200-1657731600@uac.org.au
SUMMARY:NIBA/UAC Brisbane Underwriting Expo
DESCRIPTION:
URL:https://uac.org.au/calendar/event/niba-uac-brisbane-underwriting-expo/
ATTACH;FMTTYPE=image/png:https://uac.org.au/calendar/wp-content/uploads/UAC-NIBA.png
END:VEVENT
BEGIN:VEVENT
DTSTART;VALUE=DATE:20220712
DTEND;VALUE=DATE:20220713
DTSTAMP:20260423T035926
CREATED:20220530T043817Z
LAST-MODIFIED:20220530T043817Z
UID:496-1657584000-1657670399@uac.org.au
SUMMARY:QLD Schools Term 3 Commences
DESCRIPTION:
URL:https://uac.org.au/calendar/event/qld-schools-term-3-commences/
END:VEVENT
BEGIN:VEVENT
DTSTART;TZID=Australia/Brisbane:20220704T080000
DTEND;TZID=Australia/Brisbane:20220829T170000
DTSTAMP:20260423T035926
CREATED:20220630T231921Z
LAST-MODIFIED:20220630T231921Z
UID:547-1656921600-1661792400@uac.org.au
SUMMARY:Submissions open for the ANZIIF 2022 Making a Difference Awards - Underwriting
DESCRIPTION:
URL:https://uac.org.au/calendar/event/submissions-open-for-the-anziif-2022-making-a-difference-awards-underwriting/
ATTACH;FMTTYPE=image/jpeg:https://uac.org.au/calendar/wp-content/uploads/ANZIIF.jpeg
END:VEVENT
BEGIN:VEVENT
DTSTART;VALUE=DATE:20220624
DTEND;VALUE=DATE:20220625
DTSTAMP:20260423T035926
CREATED:20220530T043731Z
LAST-MODIFIED:20220530T043731Z
UID:494-1656028800-1656115199@uac.org.au
SUMMARY:School Term 2 ends/QLD School holidays start
DESCRIPTION:
URL:https://uac.org.au/calendar/event/school-term-2-ends-qld-school-holidays-start/
END:VEVENT
BEGIN:VEVENT
DTSTART;TZID=Australia/Brisbane:20220616T080000
DTEND;TZID=Australia/Brisbane:20220616T170000
DTSTAMP:20260423T035926
CREATED:20211213T011554Z
LAST-MODIFIED:20211213T011554Z
UID:417-1655366400-1655398800@uac.org.au
SUMMARY:CQIB Breakfast Meeting - Brisbane
DESCRIPTION:
URL:https://uac.org.au/calendar/event/cqib-breakfast-meeting-brisbane-6/
ATTACH;FMTTYPE=image/png:https://uac.org.au/calendar/wp-content/uploads/cqib-logo.png
END:VEVENT
BEGIN:VEVENT
DTSTART;TZID=Australia/Brisbane:20220602T080000
DTEND;TZID=Australia/Brisbane:20220602T170000
DTSTAMP:20260423T035926
CREATED:20211213T011524Z
LAST-MODIFIED:20211213T011524Z
UID:415-1654156800-1654189200@uac.org.au
SUMMARY:QLD Day "All Rounder" Awards - The Warehouse
DESCRIPTION:
URL:https://uac.org.au/calendar/event/qld-day-all-rounder-awards-the-warehouse/
ATTACH;FMTTYPE=image/png:https://uac.org.au/calendar/wp-content/uploads/cqib-logo.png
END:VEVENT
BEGIN:VEVENT
DTSTART;TZID=Australia/Brisbane:20220601T080000
DTEND;TZID=Australia/Brisbane:20220601T170000
DTSTAMP:20260423T035926
CREATED:20211213T011401Z
LAST-MODIFIED:20211213T011401Z
UID:413-1654070400-1654102800@uac.org.au
SUMMARY:Principals Training Day
DESCRIPTION:
URL:https://uac.org.au/calendar/event/principals-training-day/
ATTACH;FMTTYPE=image/png:https://uac.org.au/calendar/wp-content/uploads/cqib-logo.png
END:VEVENT
BEGIN:VEVENT
DTSTART;TZID=Australia/Brisbane:20220520T080000
DTEND;TZID=Australia/Brisbane:20220520T170000
DTSTAMP:20260423T035926
CREATED:20220202T061725Z
LAST-MODIFIED:20220202T061725Z
UID:458-1653033600-1653066000@uac.org.au
SUMMARY:NIBA/UAC Melbourne Underwriting Expo
DESCRIPTION:
URL:https://uac.org.au/calendar/event/niba-uac-melbourne-underwriting-expo/
LOCATION:Crown Complex\, Palladium Rooms\, 8 Whiteman St\, Southbank\, VIC\, 3006\, Australia
ATTACH;FMTTYPE=image/png:https://uac.org.au/calendar/wp-content/uploads/UAC-NIBA.png
END:VEVENT
BEGIN:VEVENT
DTSTART;TZID=Australia/Brisbane:20220519T080000
DTEND;TZID=Australia/Brisbane:20220519T170000
DTSTAMP:20260423T035926
CREATED:20211213T011301Z
LAST-MODIFIED:20211213T011301Z
UID:411-1652947200-1652979600@uac.org.au
SUMMARY:CQIB Breakfast Meeting Brisbane
DESCRIPTION:
URL:https://uac.org.au/calendar/event/cqib-breakfast-meeting-brisbane-5/
ATTACH;FMTTYPE=image/png:https://uac.org.au/calendar/wp-content/uploads/cqib-logo.png
END:VEVENT
BEGIN:VEVENT
DTSTART;TZID=Australia/Adelaide:20220513T080000
DTEND;TZID=Australia/Adelaide:20220513T170000
DTSTAMP:20260423T035926
CREATED:20211221T020703Z
LAST-MODIFIED:20211221T021123Z
UID:423-1652428800-1652461200@uac.org.au
SUMMARY:SA Charity Luncheon - Adelaide
DESCRIPTION:
URL:https://uac.org.au/calendar/event/sa-charity-luncheon-adelaide/
ATTACH;FMTTYPE=image/jpeg:https://uac.org.au/calendar/wp-content/uploads/ANZIIF.jpeg
END:VEVENT
BEGIN:VEVENT
DTSTART;TZID=Australia/Brisbane:20220513T080000
DTEND;TZID=Australia/Brisbane:20220513T170000
DTSTAMP:20260423T035926
CREATED:20211213T011151Z
LAST-MODIFIED:20211213T011151Z
UID:409-1652428800-1652461200@uac.org.au
SUMMARY:Brisbane Training - Topic 2
DESCRIPTION:
URL:https://uac.org.au/calendar/event/brisbane-training-topic-2/
ATTACH;FMTTYPE=image/png:https://uac.org.au/calendar/wp-content/uploads/cqib-logo.png
END:VEVENT
BEGIN:VEVENT
DTSTART;TZID=Australia/Brisbane:20220513T080000
DTEND;TZID=Australia/Brisbane:20220513T170000
DTSTAMP:20260423T035926
CREATED:20211213T002644Z
LAST-MODIFIED:20220125T033945Z
UID:379-1652428800-1652461200@uac.org.au
SUMMARY:CQIB Long Lunch (CQIB network only) - The Rose Room\, Cloudland
DESCRIPTION:
URL:https://uac.org.au/calendar/event/cqib-long-lunch-cquib-network-only-the-rose-room-cloudland/
ATTACH;FMTTYPE=image/png:https://uac.org.au/calendar/wp-content/uploads/cqib-logo.png
END:VEVENT
BEGIN:VEVENT
DTSTART;TZID=Australia/Brisbane:20220512T080000
DTEND;TZID=Australia/Brisbane:20220512T170000
DTSTAMP:20260423T035926
CREATED:20211213T011110Z
LAST-MODIFIED:20211213T011110Z
UID:407-1652342400-1652374800@uac.org.au
SUMMARY:Gold Coast Training - Topic 2
DESCRIPTION:
URL:https://uac.org.au/calendar/event/gold-coast-training-topic-2/
ATTACH;FMTTYPE=image/png:https://uac.org.au/calendar/wp-content/uploads/cqib-logo.png
END:VEVENT
BEGIN:VEVENT
DTSTART;TZID=Australia/Brisbane:20220511T080000
DTEND;TZID=Australia/Brisbane:20220511T170000
DTSTAMP:20260423T035926
CREATED:20211213T011029Z
LAST-MODIFIED:20211213T011029Z
UID:405-1652256000-1652288400@uac.org.au
SUMMARY:Sunshine Coast Training - Topic 2
DESCRIPTION:
URL:https://uac.org.au/calendar/event/sunshine-coast-training-topic-2/
ATTACH;FMTTYPE=image/png:https://uac.org.au/calendar/wp-content/uploads/cqib-logo.png
END:VEVENT
BEGIN:VEVENT
DTSTART;TZID=Australia/Brisbane:20220510T080000
DTEND;TZID=Australia/Brisbane:20220510T170000
DTSTAMP:20260423T035926
CREATED:20211213T010951Z
LAST-MODIFIED:20211213T010951Z
UID:403-1652169600-1652202000@uac.org.au
SUMMARY:Bundaberg Training - Topic 2
DESCRIPTION:
URL:https://uac.org.au/calendar/event/bundaberg-training-topic-2/
ATTACH;FMTTYPE=image/png:https://uac.org.au/calendar/wp-content/uploads/cqib-logo.png
END:VEVENT
BEGIN:VEVENT
DTSTART;TZID=Australia/Brisbane:20220509T080000
DTEND;TZID=Australia/Brisbane:20220509T170000
DTSTAMP:20260423T035926
CREATED:20211213T010902Z
LAST-MODIFIED:20211213T010902Z
UID:401-1652083200-1652115600@uac.org.au
SUMMARY:Toowoomba Training - Topic 2
DESCRIPTION:
URL:https://uac.org.au/calendar/event/toowoomba-training-topic-2/
ATTACH;FMTTYPE=image/png:https://uac.org.au/calendar/wp-content/uploads/cqib-logo.png
END:VEVENT
BEGIN:VEVENT
DTSTART;TZID=Australia/Brisbane:20220506T080000
DTEND;TZID=Australia/Brisbane:20220506T170000
DTSTAMP:20260423T035926
CREATED:20211213T010320Z
LAST-MODIFIED:20211213T010320Z
UID:399-1651824000-1651856400@uac.org.au
SUMMARY:Rockhampton Training - Topic 2
DESCRIPTION:
URL:https://uac.org.au/calendar/event/rockhampton-training-topic-2/
ATTACH;FMTTYPE=image/png:https://uac.org.au/calendar/wp-content/uploads/cqib-logo.png
END:VEVENT
BEGIN:VEVENT
DTSTART;TZID=Australia/Brisbane:20220505T080000
DTEND;TZID=Australia/Brisbane:20220505T170000
DTSTAMP:20260423T035926
CREATED:20211213T010242Z
LAST-MODIFIED:20211213T010242Z
UID:397-1651737600-1651770000@uac.org.au
SUMMARY:Mackay Training - Topic 2
DESCRIPTION:
URL:https://uac.org.au/calendar/event/mackay-training-topic-2/
ATTACH;FMTTYPE=image/png:https://uac.org.au/calendar/wp-content/uploads/cqib-logo.png
END:VEVENT
BEGIN:VEVENT
DTSTART;TZID=Australia/Brisbane:20220504T080000
DTEND;TZID=Australia/Brisbane:20220504T170000
DTSTAMP:20260423T035926
CREATED:20211213T010200Z
LAST-MODIFIED:20211213T010200Z
UID:395-1651651200-1651683600@uac.org.au
SUMMARY:Townsville Training - Topic 2
DESCRIPTION:
URL:https://uac.org.au/calendar/event/townsville-training-topic-2/
ATTACH;FMTTYPE=image/png:https://uac.org.au/calendar/wp-content/uploads/cqib-logo.png
END:VEVENT
BEGIN:VEVENT
DTSTART;TZID=Australia/Brisbane:20220503T080000
DTEND;TZID=Australia/Brisbane:20220503T170000
DTSTAMP:20260423T035926
CREATED:20211213T010124Z
LAST-MODIFIED:20211213T010124Z
UID:393-1651564800-1651597200@uac.org.au
SUMMARY:Cairns Training - Topic 2
DESCRIPTION:
URL:https://uac.org.au/calendar/event/cairns-training-topic-2/
ATTACH;FMTTYPE=image/png:https://uac.org.au/calendar/wp-content/uploads/cqib-logo.png
END:VEVENT
END:VCALENDAR