BEGIN:VCALENDAR
VERSION:2.0
PRODID:-//UAC - Insurance Calendar - ECPv6.15.11//NONSGML v1.0//EN
CALSCALE:GREGORIAN
METHOD:PUBLISH
X-ORIGINAL-URL:https://uac.org.au/calendar
X-WR-CALDESC:Events for UAC - Insurance Calendar
REFRESH-INTERVAL;VALUE=DURATION:PT1H
X-Robots-Tag:noindex
X-PUBLISHED-TTL:PT1H
BEGIN:VTIMEZONE
TZID:Australia/Brisbane
BEGIN:STANDARD
TZOFFSETFROM:+1000
TZOFFSETTO:+1000
TZNAME:AEST
DTSTART:20250101T000000
END:STANDARD
END:VTIMEZONE
BEGIN:VEVENT
DTSTART;VALUE=DATE:20260521
DTEND;VALUE=DATE:20260522
DTSTAMP:20260421T205601
CREATED:20250929T234116Z
LAST-MODIFIED:20250929T234116Z
UID:4044-1779321600-1779407999@uac.org.au
SUMMARY:CQIB Brisbane Breakfast Meeting
DESCRIPTION:
URL:https://uac.org.au/calendar/event/cqib-brisbane-breakfast-meeting-3/
END:VEVENT
BEGIN:VEVENT
DTSTART;VALUE=DATE:20260521
DTEND;VALUE=DATE:20260522
DTSTAMP:20260421T205601
CREATED:20260310T233953Z
LAST-MODIFIED:20260310T233953Z
UID:4842-1779321600-1779407999@uac.org.au
SUMMARY:ANZIIF AGM & Graduation Ceremony NSW
DESCRIPTION:
URL:https://uac.org.au/calendar/event/anziif-agm-graduation-ceremony-nsw/
END:VEVENT
END:VCALENDAR