BEGIN:VCALENDAR
VERSION:2.0
PRODID:-//UAC - Insurance Calendar - ECPv6.15.11//NONSGML v1.0//EN
CALSCALE:GREGORIAN
METHOD:PUBLISH
X-ORIGINAL-URL:https://uac.org.au/calendar
X-WR-CALDESC:Events for UAC - Insurance Calendar
REFRESH-INTERVAL;VALUE=DURATION:PT1H
X-Robots-Tag:noindex
X-PUBLISHED-TTL:PT1H
BEGIN:VTIMEZONE
TZID:Australia/Brisbane
BEGIN:STANDARD
TZOFFSETFROM:+1000
TZOFFSETTO:+1000
TZNAME:AEST
DTSTART:20240101T000000
END:STANDARD
END:VTIMEZONE
BEGIN:VEVENT
DTSTART;VALUE=DATE:20251026
DTEND;VALUE=DATE:20251031
DTSTAMP:20260422T120453
CREATED:20250703T045232Z
LAST-MODIFIED:20250703T045232Z
UID:3524-1761436800-1761868799@uac.org.au
SUMMARY:Insurance Advisernet Conference
DESCRIPTION:
URL:https://uac.org.au/calendar/event/insurance-advisernet-conference/
LOCATION:Hamilton Island
END:VEVENT
END:VCALENDAR