BEGIN:VCALENDAR
VERSION:2.0
PRODID:-//UAC - Insurance Calendar - ECPv6.15.11//NONSGML v1.0//EN
CALSCALE:GREGORIAN
METHOD:PUBLISH
X-WR-CALNAME:UAC - Insurance Calendar
X-ORIGINAL-URL:https://uac.org.au/calendar
X-WR-CALDESC:Events for UAC - Insurance Calendar
REFRESH-INTERVAL;VALUE=DURATION:PT1H
X-Robots-Tag:noindex
X-PUBLISHED-TTL:PT1H
BEGIN:VTIMEZONE
TZID:Australia/Brisbane
BEGIN:STANDARD
TZOFFSETFROM:+1000
TZOFFSETTO:+1000
TZNAME:AEST
DTSTART:20240101T000000
END:STANDARD
END:VTIMEZONE
BEGIN:VEVENT
DTSTART;VALUE=DATE:20251019
DTEND;VALUE=DATE:20251022
DTSTAMP:20260422T133233
CREATED:20250703T045129Z
LAST-MODIFIED:20250703T045140Z
UID:3521-1760832000-1761091199@uac.org.au
SUMMARY:NIBA Gold Coast Conference
DESCRIPTION:
URL:https://uac.org.au/calendar/event/niba-conference-2/
END:VEVENT
END:VCALENDAR